Workbook

Sheet PRIORITAS
A1: No | B1: Kode | C1: Sumber Referensi | D1: Kode Indikator | E1: Nama Indikator | F1: Nama Data | G1: Jenis Data | H1: Produsen Data | I1: Klasifikasi Data Sesuai Resiko | J1: Definisi | K1: Satuan | L1: Klasifikasi Penyajian | M1: Jadwal Pemutakhiran | N1: Kategori RAD | O1: Kode Standar Data | P1: Kode Metadata | Q1: Link Portal Daerah | R1: Link Portal SDI | S1: Kode Data Prioritas | T1: Data | U1: Bidang Urusan
A2: (1) | C2: (2) | D2: (3) | E2: (4) | F2: (5) | G2: (6) | H2: (7) | I2: (8) | J2: (9) | K2: (10) | L2: (11) | M2: (12) | N2: (13) | O2: (14) | P2: (15) | Q2: (16) | R2: (17) | S2: (18)
B3: 1.01 | F3: PENDIDIKAN
A4: 1 | B4: 1.01.003.002 | F4: Angka Partisipasi Kasar (APK) Jenjang SD | G4: Statistik | H4: Dinas Pendidikan, Pemuda, dan Olahraga Kota Yogyakarta | I4: Terbatas | J4: =VLOOKUP(F4,STATISTIK!$A:$D,5,FALSE) -> #REF! | K4: % | L4: =VLOOKUP(F4,STATISTIK!$A:$D,7,FALSE) -> #REF! | M4: Tahunan | N4: =VLOOKUP(F4,STATISTIK!$A:$D,9,FALSE) -> #REF! | O4: =VLOOKUP(F4,STATISTIK!$A:$D,10,FALSE) -> #REF! | Q4: =VLOOKUP(F4,STATISTIK!$A:$D,12,FALSE) -> #REF! | R4: =VLOOKUP(F4,STATISTIK!$A:$D,13,FALSE) -> #REF!
A5: 2 | B5: 1.01.003.003 | F5: Angka Partisipasi Kasar (APK) Jenjang SMP | G5: Statistik | H5: Dinas Pendidikan, Pemuda, dan Olahraga Kota Yogyakarta | I5: Terbatas | J5: =VLOOKUP(F5,STATISTIK!$A:$D,5,FALSE) -> #REF! | K5: % | L5: =VLOOKUP(F5,STATISTIK!$A:$D,7,FALSE) -> #REF! | M5: Tahunan | N5: =VLOOKUP(F5,STATISTIK!$A:$D,9,FALSE) -> #REF! | O5: =VLOOKUP(F5,STATISTIK!$A:$D,10,FALSE) -> #REF! | Q5: =VLOOKUP(F5,STATISTIK!$A:$D,12,FALSE) -> #REF! | R5: =VLOOKUP(F5,STATISTIK!$A:$D,13,FALSE) -> #REF!
A6: 3 | B6: 1.01.004.001 | F6: Angka Partisipasi Murni (APM) Jenjang SD | G6: Statistik | H6: Dinas Pendidikan, Pemuda, dan Olahraga Kota Yogyakarta | I6: Terbatas | J6: =VLOOKUP(F6,STATISTIK!$A:$D,5,FALSE) -> #REF! | K6: % | L6: =VLOOKUP(F6,STATISTIK!$A:$D,7,FALSE) -> #REF! | M6: Tahunan | N6: =VLOOKUP(F6,STATISTIK!$A:$D,9,FALSE) -> #REF! | O6: =VLOOKUP(F6,STATISTIK!$A:$D,10,FALSE) -> #REF! | Q6: =VLOOKUP(F6,STATISTIK!$A:$D,12,FALSE) -> #REF! | R6: =VLOOKUP(F6,STATISTIK!$A:$D,13,FALSE) -> #REF!
A7: 4 | B7: 1.01.004.002 | F7: Angka Partisipasi Murni (APM) Jenjang SMP | G7: Statistik | H7: Dinas Pendidikan, Pemuda, dan Olahraga Kota Yogyakarta | I7: Terbatas | J7: =VLOOKUP(F7,STATISTIK!$A:$D,5,FALSE) -> #REF! | K7: % | L7: =VLOOKUP(F7,STATISTIK!$A:$D,7,FALSE) -> #REF! | M7: Tahunan | N7: =VLOOKUP(F7,STATISTIK!$A:$D,9,FALSE) -> #REF! | O7: =VLOOKUP(F7,STATISTIK!$A:$D,10,FALSE) -> #REF! | Q7: =VLOOKUP(F7,STATISTIK!$A:$D,12,FALSE) -> #REF! | R7: =VLOOKUP(F7,STATISTIK!$A:$D,13,FALSE) -> #REF!
A8: 5 | B8: 1.01.008.005 | F8: Persentase Sekolah Dasar yang Terakreditasi | G8: Statistik | H8: Dinas Pendidikan, Pemuda, dan Olahraga Kota Yogyakarta | I8: Terbatas | J8: =VLOOKUP(F8,STATISTIK!$A:$D,5,FALSE) -> #REF! | K8: % | L8: =VLOOKUP(F8,STATISTIK!$A:$D,7,FALSE) -> #REF! | M8: Tahunan | N8: =VLOOKUP(F8,STATISTIK!$A:$D,9,FALSE) -> #REF! | O8: =VLOOKUP(F8,STATISTIK!$A:$D,10,FALSE) -> #REF! | Q8: =VLOOKUP(F8,STATISTIK!$A:$D,12,FALSE) -> #REF! | R8: =VLOOKUP(F8,STATISTIK!$A:$D,13,FALSE) -> #REF!
A9: 6 | B9: 1.01.008.006 | F9: Persentase Sekolah Menengah Pertama yang Terakreditasi | G9: Statistik | H9: Dinas Pendidikan, Pemuda, dan Olahraga Kota Yogyakarta | I9: Terbatas | J9: =VLOOKUP(F9,STATISTIK!$A:$D,5,FALSE) -> #REF! | K9: % | L9: =VLOOKUP(F9,STATISTIK!$A:$D,7,FALSE) -> #REF! | M9: Tahunan | N9: =VLOOKUP(F9,STATISTIK!$A:$D,9,FALSE) -> #REF! | O9: =VLOOKUP(F9,STATISTIK!$A:$D,10,FALSE) -> #REF! | Q9: =VLOOKUP(F9,STATISTIK!$A:$D,12,FALSE) -> #REF! | R9: =VLOOKUP(F9,STATISTIK!$A:$D,13,FALSE) -> #REF!
A10: 7 | B10: 1.01.011.004 | F10: Persentase guru sesuai kualifikasi | G10: Statistik | H10: Dinas Pendidikan, Pemuda, dan Olahraga Kota Yogyakarta | I10: Terbatas | J10: =VLOOKUP(F10,STATISTIK!$A:$D,5,FALSE) -> #REF! | K10: % | L10: =VLOOKUP(F10,STATISTIK!$A:$D,7,FALSE) -> #REF! | M10: Tahunan | N10: =VLOOKUP(F10,STATISTIK!$A:$D,9,FALSE) -> #REF! | O10: =VLOOKUP(F10,STATISTIK!$A:$D,10,FALSE) -> #REF! | Q10: =VLOOKUP(F10,STATISTIK!$A:$D,12,FALSE) -> #REF! | R10: =VLOOKUP(F10,STATISTIK!$A:$D,13,FALSE) -> #REF!
A11: 8 | B11: 1.01.011.004.01 | F11: Jumlah guru yang sesuai kualifikasi | G11: Statistik | H11: Dinas Pendidikan, Pemuda, dan Olahraga Kota Yogyakarta | I11: Terbatas | J11: =VLOOKUP(F11,STATISTIK!$A:$D,5,FALSE) -> #REF! | K11: Orang | L11: =VLOOKUP(F11,STATISTIK!$A:$D,7,FALSE) -> #REF! | M11: Tahunan | N11: =VLOOKUP(F11,STATISTIK!$A:$D,9,FALSE) -> #REF! | O11: =VLOOKUP(F11,STATISTIK!$A:$D,10,FALSE) -> #REF! | Q11: =VLOOKUP(F11,STATISTIK!$A:$D,12,FALSE) -> #REF! | R11: =VLOOKUP(F11,STATISTIK!$A:$D,13,FALSE) -> #REF!
A12: 9 | B12: 1.01.021.002 | F12: Hasil Penilaian Mandiri Reformasi Birokrasi oleh Inspektorat | G12: Statistik | H12: Dinas Pendidikan, Pemuda, dan Olahraga Kota Yogyakarta | I12: Terbatas | J12: =VLOOKUP(F12,STATISTIK!$A:$D,5,FALSE) -> #REF! | K12: Nilai | L12: =VLOOKUP(F12,STATISTIK!$A:$D,7,FALSE) -> #REF! | M12: Tahunan | N12: =VLOOKUP(F12,STATISTIK!$A:$D,9,FALSE) -> #REF! | O12: =VLOOKUP(F12,STATISTIK!$A:$D,10,FALSE) -> #REF! | Q12: =VLOOKUP(F12,STATISTIK!$A:$D,12,FALSE) -> #REF! | R12: =VLOOKUP(F12,STATISTIK!$A:$D,13,FALSE) -> #REF!
A13: 10 | B13: 1.01.021.003 | F13: Hasil penilaian SAKIP oleh Inspektorat untuk Dinas Pendidikan Pemuda dan Olahraga | G13: Statistik | H13: Dinas Pendidikan, Pemuda, dan Olahraga Kota Yogyakarta | I13: Terbatas | J13: =VLOOKUP(F13,STATISTIK!$A:$D,5,FALSE) -> #REF! | K13: Nilai | L13: =VLOOKUP(F13,STATISTIK!$A:$D,7,FALSE) -> #REF! | M13: Tahunan | N13: =VLOOKUP(F13,STATISTIK!$A:$D,9,FALSE) -> #REF! | O13: =VLOOKUP(F13,STATISTIK!$A:$D,10,FALSE) -> #REF! | Q13: =VLOOKUP(F13,STATISTIK!$A:$D,12,FALSE) -> #REF! | R13: =VLOOKUP(F13,STATISTIK!$A:$D,13,FALSE) -> #REF!
A14: 11 | B14: 1.01.021.001 | F14: Rata-rata kemampuan literasi siswa berdasarkan hasil Asesmen Nasional SD | G14: Statistik | H14: Dinas Pendidikan, Pemuda, dan Olahraga Kota Yogyakarta | I14: Terbatas | J14: =VLOOKUP(F14,STATISTIK!$A:$D,5,FALSE) -> #REF! | K14: Nilai | L14: =VLOOKUP(F14,STATISTIK!$A:$D,7,FALSE) -> #REF! | M14: Tahunan | N14: =VLOOKUP(F14,STATISTIK!$A:$D,9,FALSE) -> #REF! | O14: =VLOOKUP(F14,STATISTIK!$A:$D,10,FALSE) -> #REF! | Q14: =VLOOKUP(F14,STATISTIK!$A:$D,12,FALSE) -> #REF! | R14: =VLOOKUP(F14,STATISTIK!$A:$D,13,FALSE) -> #REF!
A15: 12 | B15: 1.01.021.002 | F15: Rata-rata kemampuan numerasi siswa berdasarkan hasil Asesmen Nasional SD | G15: Statistik | H15: Dinas Pendidikan, Pemuda, dan Olahraga Kota Yogyakarta | I15: Terbatas | J15: =VLOOKUP(F15,STATISTIK!$A:$D,5,FALSE) -> #REF! | K15: Nilai | L15: =VLOOKUP(F15,STATISTIK!$A:$D,7,FALSE) -> #REF! | M15: Tahunan | N15: =VLOOKUP(F15,STATISTIK!$A:$D,9,FALSE) -> #REF! | O15: =VLOOKUP(F15,STATISTIK!$A:$D,10,FALSE) -> #REF! | Q15: =VLOOKUP(F15,STATISTIK!$A:$D,12,FALSE) -> #REF! | R15: =VLOOKUP(F15,STATISTIK!$A:$D,13,FALSE) -> #REF!
... A35: 32 | B35: 1.01.022.007.02 | F35: jumlah warga belajar PKBM dan SKB di akhir jenjang | G35: Statistik | H35: Dinas Pendidikan, Pemuda, dan Olahraga Kota Yogyakarta | I35: Terbatas | J35: =VLOOKUP(F35,STATISTIK!$A:$D,5,FALSE) -> #REF! | K35: Orang | L35: =VLOOKUP(F35,STATISTIK!$A:$D,7,FALSE) -> #REF! | M35: Tahunan | N35: =VLOOKUP(F35,STATISTIK!$A:$D,9,FALSE) -> #REF! | O35: =VLOOKUP(F35,STATISTIK!$A:$D,10,FALSE) -> #REF! | Q35: =VLOOKUP(F35,STATISTIK!$A:$D,12,FALSE) -> #REF! | R35: =VLOOKUP(F35,STATISTIK!$A:$D,13,FALSE) -> #REF!
B36: 1.02 | F36: KESEHATAN | G36: Statistik | I36: Terbatas | J36: =VLOOKUP(F36,STATISTIK!$A:$D,5,FALSE) -> #REF! | L36: =VLOOKUP(F36,STATISTIK!$A:$D,7,FALSE) -> #REF! | N36: =VLOOKUP(F36,STATISTIK!$A:$D,9,FALSE) -> #REF! | O36: =VLOOKUP(F36,STATISTIK!$A:$D,10,FALSE) -> #REF! | Q36: =VLOOKUP(F36,STATISTIK!$A:$D,12,FALSE) -> #REF! | R36: =VLOOKUP(F36,STATISTIK!$A:$D,13,FALSE) -> #REF!
A37: 33 | B37: 1.02.001.008 | F37: Persentase Rumah Sakit dan Fasilitas Pelayanan Kesehatan Sesuai Standar | G37: Statistik | H37: Dinas Kesehatan Kota Yogyakarta | I37: Terbatas | J37: =VLOOKUP(F37,STATISTIK!$A:$D,5,FALSE) -> #REF! | K37: % | L37: =VLOOKUP(F37,STATISTIK!$A:$D,7,FALSE) -> #REF! | M37: Tahunan | N37: =VLOOKUP(F37,STATISTIK!$A:$D,9,FALSE) -> #REF! | O37: =VLOOKUP(F37,STATISTIK!$A:$D,10,FALSE) -> #REF! | Q37: =VLOOKUP(F37,STATISTIK!$A:$D,12,FALSE) -> #REF! | R37: =VLOOKUP(F37,STATISTIK!$A:$D,13,FALSE) -> #REF!
A38: 34 | B38: 1.02.001.008.01 | F38: Jumlah Rumah Sakit, Puskesmas, dan Klinik Pratama yang memenuhi persyaratan standar usaha di Kota Yogyakarta | G38: Statistik | H38: Dinas Kesehatan Kota Yogyakarta | I38: Terbatas | J38: =VLOOKUP(F38,STATISTIK!$A:$D,5,FALSE) -> #REF! | K38: Unit | L38: =VLOOKUP(F38,STATISTIK!$A:$D,7,FALSE) -> #REF! | M38: Tahunan | N38: =VLOOKUP(F38,STATISTIK!$A:$D,9,FALSE) -> #REF! | O38: =VLOOKUP(F38,STATISTIK!$A:$D,10,FALSE) -> #REF! | Q38: =VLOOKUP(F38,STATISTIK!$A:$D,12,FALSE) -> #REF! | R38: =VLOOKUP(F38,STATISTIK!$A:$D,13,FALSE) -> #REF!
A39: 35 | B39: 1.02.001.008.02 | F39: Jumlah Rumah Sakit, Puskesmas, dan Klinik Pratama di Kota Yogyakarta | G39: Statistik | H39: Dinas Kesehatan Kota Yogyakarta | I39: Terbatas | J39: =VLOOKUP(F39,STATISTIK!$A:$D,5,FALSE) -> #REF! | K39: Unit | L39: =VLOOKUP(F39,STATISTIK!$A:$D,7,FALSE) -> #REF! | M39: Tahunan | N39: =VLOOKUP(F39,STATISTIK!$A:$D,9,FALSE) -> #REF! | O39: =VLOOKUP(F39,STATISTIK!$A:$D,10,FALSE) -> #REF! | Q39: =VLOOKUP(F39,STATISTIK!$A:$D,12,FALSE) -> #REF! | R39: =VLOOKUP(F39,STATISTIK!$A:$D,13,FALSE) -> #REF!
A40: 36 | B40: 1.02.001.009 | F40: Persentase Rumah Sakit dan Puskesmas yang Terakreditasi | G40: Statistik | H40: Dinas Kesehatan Kota Yogyakarta | I40: Terbatas | J40: =VLOOKUP(F40,STATISTIK!$A:$D,5,FALSE) -> #REF! | K40: % | L40: =VLOOKUP(F40,STATISTIK!$A:$D,7,FALSE) -> #REF! | M40: Tahunan | N40: =VLOOKUP(F40,STATISTIK!$A:$D,9,FALSE) -> #REF! | O40: =VLOOKUP(F40,STATISTIK!$A:$D,10,FALSE) -> #REF! | Q40: =VLOOKUP(F40,STATISTIK!$A:$D,12,FALSE) -> #REF! | R40: =VLOOKUP(F40,STATISTIK!$A:$D,13,FALSE) -> #REF!
A41: 37 | B41: 1.02.001.009.01 | F41: Jumlah Puskesmas yang sudah dilakukan survei re-akreditasi | G41: Statistik | H41: Dinas Kesehatan Kota Yogyakarta | I41: Terbatas | J41: =VLOOKUP(F41,STATISTIK!$A:$D,5,FALSE) -> #REF! | K41: Puskesmas | L41: =VLOOKUP(F41,STATISTIK!$A:$D,7,FALSE) -> #REF! | M41: Tahunan | N41: =VLOOKUP(F41,STATISTIK!$A:$D,9,FALSE) -> #REF! | O41: =VLOOKUP(F41,STATISTIK!$A:$D,10,FALSE) -> #REF! | Q41: =VLOOKUP(F41,STATISTIK!$A:$D,12,FALSE) -> #REF! | R41: =VLOOKUP(F41,STATISTIK!$A:$D,13,FALSE) -> #REF!
A42: 38 | B42: 1.02.001.009.02 | F42: Jumlah Rumah Sakit terakreditasi Paripurna dan Utama | G42: Statistik | H42: Dinas Kesehatan Kota Yogyakarta | I42: Terbatas | J42: =VLOOKUP(F42,STATISTIK!$A:$D,5,FALSE) -> #REF! | K42: Rumah Sakit | L42: =VLOOKUP(F42,STATISTIK!$A:$D,7,FALSE) -> #REF! | M42: Tahunan | N42: =VLOOKUP(F42,STATISTIK!$A:$D,9,FALSE) -> #REF! | O42: =VLOOKUP(F42,STATISTIK!$A:$D,10,FALSE) -> #REF! | Q42: =VLOOKUP(F42,STATISTIK!$A:$D,12,FALSE) -> #REF! | R42: =VLOOKUP(F42,STATISTIK!$A:$D,13,FALSE) -> #REF!
A43: 39 | B43: 1.02.001.010 | F43: Persentase Sarana, Prasarana dan Peralatan Kesehatan penunjang medis dan non medis yang terpelihara dan dapat dioperasionalkan secara optimal | G43: Statistik | H43: Dinas Kesehatan Kota Yogyakarta | I43: Terbatas | J43: =VLOOKUP(F43,STATISTIK!$A:$D,5,FALSE) -> #REF! | K43: % | L43: =VLOOKUP(F43,STATISTIK!$A:$D,7,FALSE) -> #REF! | M43: Tahunan | N43: =VLOOKUP(F43,STATISTIK!$A:$D,9,FALSE) -> #REF! | O43: =VLOOKUP(F43,STATISTIK!$A:$D,10,FALSE) -> #REF! | Q43: =VLOOKUP(F43,STATISTIK!$A:$D,12,FALSE) -> #REF! | R43: =VLOOKUP(F43,STATISTIK!$A:$D,13,FALSE) -> #REF!
A44: 40 | B44: 1.02.001.010.01 | F44: Jumlah Sarana, prasarana dan peralatan kesehatan yang terpelihara dan dapat dioperasionalkan secara optimal | G44: Statistik | H44: Dinas Kesehatan Kota Yogyakarta | I44: Terbatas | J44: =VLOOKUP(F44,STATISTIK!$A:$D,5,FALSE) -> #REF! | K44: Unit | L44: =VLOOKUP(F44,STATISTIK!$A:$D,7,FALSE) -> #REF! | M44: Tahunan | N44: =VLOOKUP(F44,STATISTIK!$A:$D,9,FALSE) -> #REF! | O44: =VLOOKUP(F44,STATISTIK!$A:$D,10,FALSE) -> #REF! | Q44: =VLOOKUP(F44,STATISTIK!$A:$D,12,FALSE) -> #REF! | R44: =VLOOKUP(F44,STATISTIK!$A:$D,13,FALSE) -> #REF!
A45: 41 | B45: 1.02.001.010.02 | F45: Jumlah Sarana, prasarana dan peralatan kesehatan yang dikelola | G45: Statistik | H45: Dinas Kesehatan Kota Yogyakarta | I45: Terbatas | J45: =VLOOKUP(F45,STATISTIK!$A:$D,5,FALSE) -> #REF! | K45: Unit | L45: =VLOOKUP(F45,STATISTIK!$A:$D,7,FALSE) -> #REF! | M45: Tahunan | N45: =VLOOKUP(F45,STATISTIK!$A:$D,9,FALSE) -> #REF! | O45: =VLOOKUP(F45,STATISTIK!$A:$D,10,FALSE) -> #REF! | Q45: =VLOOKUP(F45,STATISTIK!$A:$D,12,FALSE) -> #REF! | R45: =VLOOKUP(F45,STATISTIK!$A:$D,13,FALSE) -> #REF!
A46: 42 | B46: 1.02.001.019 | F46: Skor Akreditasi RS | G46: Statistik | H46: Dinas Kesehatan Kota Yogyakarta | I46: Terbatas | J46: =VLOOKUP(F46,STATISTIK!$A:$D,5,FALSE) -> #REF! | K46: % | L46: =VLOOKUP(F46,STATISTIK!$A:$D,7,FALSE) -> #REF! | M46: Tahunan | N46: =VLOOKUP(F46,STATISTIK!$A:$D,9,FALSE) -> #REF! | O46: =VLOOKUP(F46,STATISTIK!$A:$D,10,FALSE) -> #REF! | Q46: =VLOOKUP(F46,STATISTIK!$A:$D,12,FALSE) -> #REF! | R46: =VLOOKUP(F46,STATISTIK!$A:$D,13,FALSE) -> #REF!
A47: 43 | B47: 1.02.001.020 | F47: Hasil Penilaian Mandiri Reformasi Birokrasi oleh Inspektorat | G47: Statistik | H47: Dinas Kesehatan Kota Yogyakarta | I47: Terbatas | J47: =VLOOKUP(F47,STATISTIK!$A:$D,5,FALSE) -> #REF! | K47: Nilai | L47: =VLOOKUP(F47,STATISTIK!$A:$D,7,FALSE) -> #REF! | M47: Tahunan | N47: =VLOOKUP(F47,STATISTIK!$A:$D,9,FALSE) -> #REF! | O47: =VLOOKUP(F47,STATISTIK!$A:$D,10,FALSE) -> #REF! | Q47: =VLOOKUP(F47,STATISTIK!$A:$D,12,FALSE) -> #REF! | R47: =VLOOKUP(F47,STATISTIK!$A:$D,13,FALSE) -> #REF!
A48: 44 | B48: 1.02.001.021 | F48: Indeks keluarga sehat di wilayah kerja Puskesmas | G48: Statistik | H48: Dinas Kesehatan Kota Yogyakarta | I48: Terbatas | J48: =VLOOKUP(F48,STATISTIK!$A:$D,5,FALSE) -> #REF! | K48: Indeks | L48: =VLOOKUP(F48,STATISTIK!$A:$D,7,FALSE) -> #REF! | M48: Tahunan | N48: =VLOOKUP(F48,STATISTIK!$A:$D,9,FALSE) -> #REF! | O48: =VLOOKUP(F48,STATISTIK!$A:$D,10,FALSE) -> #REF! | Q48: =VLOOKUP(F48,STATISTIK!$A:$D,12,FALSE) -> #REF! | R48: =VLOOKUP(F48,STATISTIK!$A:$D,13,FALSE) -> #REF!
... A152: 148 | B152: 1.02.016.012 | F152: Target pendapatan | G152: Statistik | H152: RSUD Kota Yogyakarta | I152: Terbatas | J152: =VLOOKUP(F152,STATISTIK!$A:$D,5,FALSE) -> #REF! | K152: Rp | L152: =VLOOKUP(F152,STATISTIK!$A:$D,7,FALSE) -> #REF! | M152: Tahunan | N152: =VLOOKUP(F152,STATISTIK!$A:$D,9,FALSE) -> #REF! | O152: =VLOOKUP(F152,STATISTIK!$A:$D,10,FALSE) -> #REF! | Q152: =VLOOKUP(F152,STATISTIK!$A:$D,12,FALSE) -> #REF! | R152: =VLOOKUP(F152,STATISTIK!$A:$D,13,FALSE) -> #REF!
B153: 1.03 | F153: PEKERJAAN UMUM DAN PENATAAN RUANG | G153: Statistik | I153: Terbatas | J153: =VLOOKUP(F153,STATISTIK!$A:$D,5,FALSE) -> #REF! | L153: =VLOOKUP(F153,STATISTIK!$A:$D,7,FALSE) -> #REF! | N153: =VLOOKUP(F153,STATISTIK!$A:$D,9,FALSE) -> #REF! | O153: =VLOOKUP(F153,STATISTIK!$A:$D,10,FALSE) -> #REF! | Q153: =VLOOKUP(F153,STATISTIK!$A:$D,12,FALSE) -> #REF! | R153: =VLOOKUP(F153,STATISTIK!$A:$D,13,FALSE) -> #REF!
A154: 149 | B154: 1.03.002.009 | F154: Persentase kualitas sarana dan prasarana jalan, jembatan dan bangunan pelengkap jalan | G154: Statistik | H154: Dinas Pekerjaan Umum, Perumahan dan Kawasan Permukiman | I154: Terbatas | J154: =VLOOKUP(F154,STATISTIK!$A:$D,5,FALSE) -> #REF! | K154: % | L154: =VLOOKUP(F154,STATISTIK!$A:$D,7,FALSE) -> #REF! | M154: Tahunan | N154: =VLOOKUP(F154,STATISTIK!$A:$D,9,FALSE) -> #REF! | O154: =VLOOKUP(F154,STATISTIK!$A:$D,10,FALSE) -> #REF! | Q154: =VLOOKUP(F154,STATISTIK!$A:$D,12,FALSE) -> #REF! | R154: =VLOOKUP(F154,STATISTIK!$A:$D,13,FALSE) -> #REF!
A155: 150 | B155: 1.03.002.010 | F155: Pelengkap jalan dalam kondisi mantap | G155: Statistik | H155: Dinas Pekerjaan Umum, Perumahan dan Kawasan Permukiman | I155: Terbatas | J155: =VLOOKUP(F155,STATISTIK!$A:$D,5,FALSE) -> #REF! | K155: Km | L155: =VLOOKUP(F155,STATISTIK!$A:$D,7,FALSE) -> #REF! | M155: Tahunan | N155: =VLOOKUP(F155,STATISTIK!$A:$D,9,FALSE) -> #REF! | O155: =VLOOKUP(F155,STATISTIK!$A:$D,10,FALSE) -> #REF! | Q155: =VLOOKUP(F155,STATISTIK!$A:$D,12,FALSE) -> #REF! | R155: =VLOOKUP(F155,STATISTIK!$A:$D,13,FALSE) -> #REF!
A156: 151 | B156: 1.03.002.011 | F156: Total panjang jalan kota | G156: Statistik | H156: Dinas Pekerjaan Umum, Perumahan dan Kawasan Permukiman | I156: Terbatas | J156: =VLOOKUP(F156,STATISTIK!$A:$D,5,FALSE) -> #REF! | K156: m | L156: =VLOOKUP(F156,STATISTIK!$A:$D,7,FALSE) -> #REF! | M156: Tahunan | N156: =VLOOKUP(F156,STATISTIK!$A:$D,9,FALSE) -> #REF! | O156: =VLOOKUP(F156,STATISTIK!$A:$D,10,FALSE) -> #REF! | Q156: =VLOOKUP(F156,STATISTIK!$A:$D,12,FALSE) -> #REF! | R156: =VLOOKUP(F156,STATISTIK!$A:$D,13,FALSE) -> #REF!
A157: 152 | B157: 1.03.002.012 | F157: Total panjang pelengkap jalan | G157: Statistik | H157: Dinas Pekerjaan Umum, Perumahan dan Kawasan Permukiman | I157: Terbatas | J157: =VLOOKUP(F157,STATISTIK!$A:$D,5,FALSE) -> #REF! | K157: m | L157: =VLOOKUP(F157,STATISTIK!$A:$D,7,FALSE) -> #REF! | M157: Tahunan | N157: =VLOOKUP(F157,STATISTIK!$A:$D,9,FALSE) -> #REF! | O157: =VLOOKUP(F157,STATISTIK!$A:$D,10,FALSE) -> #REF! | Q157: =VLOOKUP(F157,STATISTIK!$A:$D,12,FALSE) -> #REF! | R157: =VLOOKUP(F157,STATISTIK!$A:$D,13,FALSE) -> #REF!
A158: 153 | B158: 1.03.002.013 | F158: Panjang Jembatan | G158: Statistik | H158: Dinas Pekerjaan Umum, Perumahan dan Kawasan Permukiman | I158: Terbatas | J158: =VLOOKUP(F158,STATISTIK!$A:$D,5,FALSE) -> #REF! | K158: Km | L158: =VLOOKUP(F158,STATISTIK!$A:$D,7,FALSE) -> #REF! | M158: Tahunan | N158: =VLOOKUP(F158,STATISTIK!$A:$D,9,FALSE) -> #REF! | O158: =VLOOKUP(F158,STATISTIK!$A:$D,10,FALSE) -> #REF! | Q158: =VLOOKUP(F158,STATISTIK!$A:$D,12,FALSE) -> #REF! | R158: =VLOOKUP(F158,STATISTIK!$A:$D,13,FALSE) -> #REF!
A159: 154 | B159: 1.03.002.014 | F159: Jumlah Jembatan | G159: Statistik | H159: Dinas Pekerjaan Umum, Perumahan dan Kawasan Permukiman | I159: Terbatas | J159: =VLOOKUP(F159,STATISTIK!$A:$D,5,FALSE) -> #REF! | K159: Unit | L159: =VLOOKUP(F159,STATISTIK!$A:$D,7,FALSE) -> #REF! | M159: Tahunan | N159: =VLOOKUP(F159,STATISTIK!$A:$D,9,FALSE) -> #REF! | O159: =VLOOKUP(F159,STATISTIK!$A:$D,10,FALSE) -> #REF! | Q159: =VLOOKUP(F159,STATISTIK!$A:$D,12,FALSE) -> #REF! | R159: =VLOOKUP(F159,STATISTIK!$A:$D,13,FALSE) -> #REF!
A160: 155 | B160: 1.03.002.015 | F160: Jumlah Jembatan kondisi mantap | G160: Statistik | H160: Dinas Pekerjaan Umum, Perumahan dan Kawasan Permukiman | I160: Terbatas | J160: =VLOOKUP(F160,STATISTIK!$A:$D,5,FALSE) -> #REF! | K160: Km | L160: =VLOOKUP(F160,STATISTIK!$A:$D,7,FALSE) -> #REF! | M160: Tahunan | N160: =VLOOKUP(F160,STATISTIK!$A:$D,9,FALSE) -> #REF! | O160: =VLOOKUP(F160,STATISTIK!$A:$D,10,FALSE) -> #REF! | Q160: =VLOOKUP(F160,STATISTIK!$A:$D,12,FALSE) -> #REF! | R160: =VLOOKUP(F160,STATISTIK!$A:$D,13,FALSE) -> #REF!
A161: 156 | B161: 1.03.003.003 | F161: Panjang saluran drainase dalam kondisi baik yang dilengkapi Sumur Peresapan Air Hujan (SPAH) (meter) | G161: Statistik | H161: Dinas Pekerjaan Umum, Perumahan dan Kawasan Permukiman | I161: Terbatas | J161: =VLOOKUP(F161,STATISTIK!$A:$D,5,FALSE) -> #REF! | K161: m | L161: =VLOOKUP(F161,STATISTIK!$A:$D,7,FALSE) -> #REF! | M161: Tahunan | N161: =VLOOKUP(F161,STATISTIK!$A:$D,9,FALSE) -> #REF! | O161: =VLOOKUP(F161,STATISTIK!$A:$D,10,FALSE) -> #REF! | Q161: =VLOOKUP(F161,STATISTIK!$A:$D,12,FALSE) -> #REF! | R161: =VLOOKUP(F161,STATISTIK!$A:$D,13,FALSE) -> #REF!
A162: 157 | B162: 1.03.003.004 | F162: Total panjang saluran drainase (meter) | G162: Statistik | H162: Dinas Pekerjaan Umum, Perumahan dan Kawasan Permukiman | I162: Terbatas | J162: =VLOOKUP(F162,STATISTIK!$A:$D,5,FALSE) -> #REF! | K162: m | L162: =VLOOKUP(F162,STATISTIK!$A:$D,7,FALSE) -> #REF! | M162: Tahunan | N162: =VLOOKUP(F162,STATISTIK!$A:$D,9,FALSE) -> #REF! | O162: =VLOOKUP(F162,STATISTIK!$A:$D,10,FALSE) -> #REF! | Q162: =VLOOKUP(F162,STATISTIK!$A:$D,12,FALSE) -> #REF! | R162: =VLOOKUP(F162,STATISTIK!$A:$D,13,FALSE) -> #REF!
A163: 158 | B163: 1.03.003.003 | F163: Persentase kualitas talud dan saluran irigasi kondisi baik | G163: Statistik | H163: Dinas Pekerjaan Umum, Perumahan dan Kawasan Permukiman | I163: Terbatas | J163: =VLOOKUP(F163,STATISTIK!$A:$D,5,FALSE) -> #REF! | K163: % | L163: =VLOOKUP(F163,STATISTIK!$A:$D,7,FALSE) -> #REF! | M163: Tahunan | N163: =VLOOKUP(F163,STATISTIK!$A:$D,9,FALSE) -> #REF! | O163: =VLOOKUP(F163,STATISTIK!$A:$D,10,FALSE) -> #REF! | Q163: =VLOOKUP(F163,STATISTIK!$A:$D,12,FALSE) -> #REF! | R163: =VLOOKUP(F163,STATISTIK!$A:$D,13,FALSE) -> #REF!
A164: 159 | B164: 1.03.003.002.01 | F164: Panjang talud kondisi baik (baik pembangunan baru dan rehab talud) | G164: Statistik | H164: Dinas Pekerjaan Umum, Perumahan dan Kawasan Permukiman | I164: Terbatas | J164: =VLOOKUP(F164,STATISTIK!$A:$D,5,FALSE) -> #REF! | K164: Km | L164: =VLOOKUP(F164,STATISTIK!$A:$D,7,FALSE) -> #REF! | M164: Tahunan | N164: =VLOOKUP(F164,STATISTIK!$A:$D,9,FALSE) -> #REF! | O164: =VLOOKUP(F164,STATISTIK!$A:$D,10,FALSE) -> #REF! | Q164: =VLOOKUP(F164,STATISTIK!$A:$D,12,FALSE) -> #REF! | R164: =VLOOKUP(F164,STATISTIK!$A:$D,13,FALSE) -> #REF!
A165: 160 | B165: 1.03.003.002.02 | F165: Panjang saluran irigasi kondisi baik | G165: Statistik | H165: Dinas Pekerjaan Umum, Perumahan dan Kawasan Permukiman | I165: Terbatas | J165: =VLOOKUP(F165,STATISTIK!$A:$D,5,FALSE) -> #REF! | K165: Km | L165: =VLOOKUP(F165,STATISTIK!$A:$D,7,FALSE) -> #REF! | M165: Tahunan | N165: =VLOOKUP(F165,STATISTIK!$A:$D,9,FALSE) -> #REF! | O165: =VLOOKUP(F165,STATISTIK!$A:$D,10,FALSE) -> #REF! | Q165: =VLOOKUP(F165,STATISTIK!$A:$D,12,FALSE) -> #REF! | R165: =VLOOKUP(F165,STATISTIK!$A:$D,13,FALSE) -> #REF!
... A287: 282 | B287: 1.04.006.011.02 | F287: Jumlah titik PJU | G287: Statistik | H287: Dinas Pekerjaan Umum, Perumahan dan Kawasan Permukiman | I287: Terbatas | J287: =VLOOKUP(F287,STATISTIK!$A:$D,5,FALSE) -> #REF! | K287: Titik | L287: =VLOOKUP(F287,STATISTIK!$A:$D,7,FALSE) -> #REF! | M287: Tahunan | N287: =VLOOKUP(F287,STATISTIK!$A:$D,9,FALSE) -> #REF! | O287: =VLOOKUP(F287,STATISTIK!$A:$D,10,FALSE) -> #REF! | Q287: =VLOOKUP(F287,STATISTIK!$A:$D,12,FALSE) -> #REF! | R287: =VLOOKUP(F287,STATISTIK!$A:$D,13,FALSE) -> #REF!
B288: 1.05 | F288: KETENTRAMAN, KETERTIBAN UMUM, DAN PERLINDUNGAN MASYARAKAT | G288: Statistik | I288: Terbatas | J288: =VLOOKUP(F288,STATISTIK!$A:$D,5,FALSE) -> #REF! | L288: =VLOOKUP(F288,STATISTIK!$A:$D,7,FALSE) -> #REF! | N288: =VLOOKUP(F288,STATISTIK!$A:$D,9,FALSE) -> #REF! | O288: =VLOOKUP(F288,STATISTIK!$A:$D,10,FALSE) -> #REF! | Q288: =VLOOKUP(F288,STATISTIK!$A:$D,12,FALSE) -> #REF! | R288: =VLOOKUP(F288,STATISTIK!$A:$D,13,FALSE) -> #REF!
A289: 283 | B289: 1.05.001 | F289: Jumlah Pelanggaran Perda | G289: Statistik | H289: Satuan Polisi Pamong Praja | I289: Terbatas | J289: =VLOOKUP(F289,STATISTIK!$A:$D,5,FALSE) -> #N/A | K289: Unit/Kasus | L289: =VLOOKUP(F289,STATISTIK!$A:$D,7,FALSE) -> #N/A | M289: Tahunan | N289: =VLOOKUP(F289,STATISTIK!$A:$D,9,FALSE) -> #N/A | O289: =VLOOKUP(F289,STATISTIK!$A:$D,10,FALSE) -> #N/A | Q289: =VLOOKUP(F289,STATISTIK!$A:$D,12,FALSE) -> #N/A | R289: =VLOOKUP(F289,STATISTIK!$A:$D,13,FALSE) -> #N/A
A290: 284 | B290: 1.05.004.005 | F290: Persentase Penyelesaian Pelanggaran K3 | G290: Statistik | H290: Satuan Polisi Pamong Praja | I290: Terbatas | J290: =VLOOKUP(F290,STATISTIK!$A:$D,5,FALSE) -> #REF! | K290: % | L290: =VLOOKUP(F290,STATISTIK!$A:$D,7,FALSE) -> #REF! | M290: Tahunan | N290: =VLOOKUP(F290,STATISTIK!$A:$D,9,FALSE) -> #REF! | O290: =VLOOKUP(F290,STATISTIK!$A:$D,10,FALSE) -> #REF! | Q290: =VLOOKUP(F290,STATISTIK!$A:$D,12,FALSE) -> #REF! | R290: =VLOOKUP(F290,STATISTIK!$A:$D,13,FALSE) -> #REF!
A291: 285 | B291: 1.05.004.005 | F291: Persentase Penyelesaian Gangguan Ketertiban Umum, Ketentraman dan perlindungan masyarakat | G291: Statistik | H291: Satuan Polisi Pamong Praja | I291: Terbatas | J291: =VLOOKUP(F291,STATISTIK!$A:$D,5,FALSE) -> #REF! | K291: % | L291: =VLOOKUP(F291,STATISTIK!$A:$D,7,FALSE) -> #REF! | M291: Tahunan | N291: =VLOOKUP(F291,STATISTIK!$A:$D,9,FALSE) -> #REF! | O291: =VLOOKUP(F291,STATISTIK!$A:$D,10,FALSE) -> #REF! | Q291: =VLOOKUP(F291,STATISTIK!$A:$D,12,FALSE) -> #REF! | R291: =VLOOKUP(F291,STATISTIK!$A:$D,13,FALSE) -> #REF!
A292: 286 | B292: 1.05.004.006 | F292: Persentase Kampung yang Melaksanakan Perlindungan Masyarakat | G292: Statistik | H292: Satuan Polisi Pamong Praja | I292: Terbatas | J292: =VLOOKUP(F292,STATISTIK!$A:$D,5,FALSE) -> #N/A | K292: % | L292: =VLOOKUP(F292,STATISTIK!$A:$D,7,FALSE) -> #N/A | M292: Tahunan | N292: =VLOOKUP(F292,STATISTIK!$A:$D,9,FALSE) -> #N/A | O292: =VLOOKUP(F292,STATISTIK!$A:$D,10,FALSE) -> #N/A | Q292: =VLOOKUP(F292,STATISTIK!$A:$D,12,FALSE) -> #N/A | R292: =VLOOKUP(F292,STATISTIK!$A:$D,13,FALSE) -> #N/A
A293: 287 | B293: 1.05.004.007 | F293: Persentase Pengendalian Gangguan Ketertiban Umum dan Ketentraman Masyarakat | G293: Statistik | H293: Satuan Polisi Pamong Praja | I293: Terbatas | J293: =VLOOKUP(F293,STATISTIK!$A:$D,5,FALSE) -> #REF! | K293: % | L293: =VLOOKUP(F293,STATISTIK!$A:$D,7,FALSE) -> #REF! | M293: Tahunan | N293: =VLOOKUP(F293,STATISTIK!$A:$D,9,FALSE) -> #REF! | O293: =VLOOKUP(F293,STATISTIK!$A:$D,10,FALSE) -> #REF! | Q293: =VLOOKUP(F293,STATISTIK!$A:$D,12,FALSE) -> #REF! | R293: =VLOOKUP(F293,STATISTIK!$A:$D,13,FALSE) -> #REF!
A294: 288 | B294: 1.05.004.008 | F294: Jumlah kampung yg sudah memiliki anggota linmas dengan kuota 1 Kampung, 10 Linmas | G294: Statistik | H294: Satuan Polisi Pamong Praja | I294: Terbatas | J294: =VLOOKUP(F294,STATISTIK!$A:$D,5,FALSE) -> #REF! | K294: Kampung | L294: =VLOOKUP(F294,STATISTIK!$A:$D,7,FALSE) -> #REF! | M294: Tahunan | N294: =VLOOKUP(F294,STATISTIK!$A:$D,9,FALSE) -> #REF! | O294: =VLOOKUP(F294,STATISTIK!$A:$D,10,FALSE) -> #REF! | Q294: =VLOOKUP(F294,STATISTIK!$A:$D,12,FALSE) -> #REF! | R294: =VLOOKUP(F294,STATISTIK!$A:$D,13,FALSE) -> #REF!
A295: 289 | B295: 1.05.004.009 | F295: Target pembentukan sekolah panca tertib | G295: Statistik | H295: Satuan Polisi Pamong Praja | I295: Terbatas | J295: =VLOOKUP(F295,STATISTIK!$A:$D,5,FALSE) -> #REF! | K295: Kampung | L295: =VLOOKUP(F295,STATISTIK!$A:$D,7,FALSE) -> #REF! | M295: Tahunan | N295: =VLOOKUP(F295,STATISTIK!$A:$D,9,FALSE) -> #REF! | O295: =VLOOKUP(F295,STATISTIK!$A:$D,10,FALSE) -> #REF! | Q295: =VLOOKUP(F295,STATISTIK!$A:$D,12,FALSE) -> #REF! | R295: =VLOOKUP(F295,STATISTIK!$A:$D,13,FALSE) -> #REF!
A296: 290 | B296: 1.05.004.009.01 | F296: Jumlah kampung dan sekolah panca tertib yg dibentuk | G296: Statistik | H296: Satuan Polisi Pamong Praja | I296: Terbatas | J296: =VLOOKUP(F296,STATISTIK!$A:$D,5,FALSE) -> #REF! | K296: Kampung | L296: =VLOOKUP(F296,STATISTIK!$A:$D,7,FALSE) -> #REF! | M296: Tahunan | N296: =VLOOKUP(F296,STATISTIK!$A:$D,9,FALSE) -> #REF! | O296: =VLOOKUP(F296,STATISTIK!$A:$D,10,FALSE) -> #REF! | Q296: =VLOOKUP(F296,STATISTIK!$A:$D,12,FALSE) -> #REF! | R296: =VLOOKUP(F296,STATISTIK!$A:$D,13,FALSE) -> #REF!
A297: 291 | B297: 1.05.004.009.01 | F297: Jumlah kampung panca tertib yg dibentuk | G297: Statistik | H297: Satuan Polisi Pamong Praja | I297: Terbatas | J297: =VLOOKUP(F297,STATISTIK!$A:$D,5,FALSE) -> #REF! | K297: Kampung | L297: =VLOOKUP(F297,STATISTIK!$A:$D,7,FALSE) -> #REF! | M297: Tahunan | N297: =VLOOKUP(F297,STATISTIK!$A:$D,9,FALSE) -> #REF! | O297: =VLOOKUP(F297,STATISTIK!$A:$D,10,FALSE) -> #REF! | Q297: =VLOOKUP(F297,STATISTIK!$A:$D,12,FALSE) -> #REF! | R297: =VLOOKUP(F297,STATISTIK!$A:$D,13,FALSE) -> #REF!
A298: 292 | B298: 1.05.004.009.01 | F298: Jumlah sekolah panca tertib yg terbentuk | G298: Statistik | H298: Satuan Polisi Pamong Praja | I298: Terbatas | J298: =VLOOKUP(F298,STATISTIK!$A:$D,5,FALSE) -> #REF! | K298: Sekolah | L298: =VLOOKUP(F298,STATISTIK!$A:$D,7,FALSE) -> #REF! | M298: Tahunan | N298: =VLOOKUP(F298,STATISTIK!$A:$D,9,FALSE) -> #REF! | O298: =VLOOKUP(F298,STATISTIK!$A:$D,10,FALSE) -> #REF! | Q298: =VLOOKUP(F298,STATISTIK!$A:$D,12,FALSE) -> #REF! | R298: =VLOOKUP(F298,STATISTIK!$A:$D,13,FALSE) -> #REF!
A299: 293 | B299: 1.05.004.010 | F299: Target penumbuhan sekolah panca tertib | G299: Statistik | H299: Satuan Polisi Pamong Praja | I299: Terbatas | J299: =VLOOKUP(F299,STATISTIK!$A:$D,5,FALSE) -> #REF! | K299: Sekolah | L299: =VLOOKUP(F299,STATISTIK!$A:$D,7,FALSE) -> #REF! | M299: Tahunan | N299: =VLOOKUP(F299,STATISTIK!$A:$D,9,FALSE) -> #REF! | O299: =VLOOKUP(F299,STATISTIK!$A:$D,10,FALSE) -> #REF! | Q299: =VLOOKUP(F299,STATISTIK!$A:$D,12,FALSE) -> #REF! | R299: =VLOOKUP(F299,STATISTIK!$A:$D,13,FALSE) -> #REF!
A300: 294 | B300: 1.05.004.010.01 | F300: Jumlah kampung dan sekolah panca tertib yg ditumbuhkan | G300: Statistik | H300: Satuan Polisi Pamong Praja | I300: Terbatas | J300: =VLOOKUP(F300,STATISTIK!$A:$D,5,FALSE) -> #REF! | K300: Kampung | L300: =VLOOKUP(F300,STATISTIK!$A:$D,7,FALSE) -> #REF! | M300: Tahunan | N300: =VLOOKUP(F300,STATISTIK!$A:$D,9,FALSE) -> #REF! | O300: =VLOOKUP(F300,STATISTIK!$A:$D,10,FALSE) -> #REF! | Q300: =VLOOKUP(F300,STATISTIK!$A:$D,12,FALSE) -> #REF! | R300: =VLOOKUP(F300,STATISTIK!$A:$D,13,FALSE) -> #REF!
... A320: 314 | B320: 1.05.010.008 | F320: Jumlah dokumen data dan informasi bencana terpadu | G320: Statistik | H320: Badan Penanggulangan Bencana Daerah | I320: Terbatas | J320: =VLOOKUP(F320,STATISTIK!$A:$D,5,FALSE) -> #REF! | K320: Dokumen | L320: =VLOOKUP(F320,STATISTIK!$A:$D,7,FALSE) -> #REF! | M320: Tahunan | N320: =VLOOKUP(F320,STATISTIK!$A:$D,9,FALSE) -> #REF! | O320: =VLOOKUP(F320,STATISTIK!$A:$D,10,FALSE) -> #REF! | Q320: =VLOOKUP(F320,STATISTIK!$A:$D,12,FALSE) -> #REF! | R320: =VLOOKUP(F320,STATISTIK!$A:$D,13,FALSE) -> #REF!
A321: 315 | B321: 1.05.010.009 | F321: Indeks kapasitas daerah dalam penanggulangan bencana | G321: Statistik | H321: Badan Penanggulangan Bencana Daerah | I321: Terbatas | J321: =VLOOKUP(F321,STATISTIK!$A:$D,5,FALSE) -> #N/A | L321: =VLOOKUP(F321,STATISTIK!$A:$D,7,FALSE) -> #N/A | M321: Tahunan | N321: =VLOOKUP(F321,STATISTIK!$A:$D,9,FALSE) -> #N/A | O321: =VLOOKUP(F321,STATISTIK!$A:$D,10,FALSE) -> #N/A | Q321: =VLOOKUP(F321,STATISTIK!$A:$D,12,FALSE) -> #N/A | R321: =VLOOKUP(F321,STATISTIK!$A:$D,13,FALSE) -> #N/A
A322: 316 | B322: 1.05.010.010 | F322: Hasil Penilaian Mandiri Reformasi Birokrasi oleh Inspektorat | G322: Statistik | H322: Badan Penanggulangan Bencana Daerah | I322: Terbatas | J322: =VLOOKUP(F322,STATISTIK!$A:$D,5,FALSE) -> #REF! | K322: Nilai | L322: =VLOOKUP(F322,STATISTIK!$A:$D,7,FALSE) -> #REF! | M322: Tahunan | N322: =VLOOKUP(F322,STATISTIK!$A:$D,9,FALSE) -> #REF! | O322: =VLOOKUP(F322,STATISTIK!$A:$D,10,FALSE) -> #REF! | Q322: =VLOOKUP(F322,STATISTIK!$A:$D,12,FALSE) -> #REF! | R322: =VLOOKUP(F322,STATISTIK!$A:$D,13,FALSE) -> #REF!
A323: 317 | B323: 1.05.010.011 | F323: Hasil Penilaian RB dalam bentuk persentase | G323: Statistik | H323: Badan Penanggulangan Bencana Daerah | I323: Terbatas | J323: =VLOOKUP(F323,STATISTIK!$A:$D,5,FALSE) -> #REF! | K323: Nilai | L323: =VLOOKUP(F323,STATISTIK!$A:$D,7,FALSE) -> #REF! | M323: Tahunan | N323: =VLOOKUP(F323,STATISTIK!$A:$D,9,FALSE) -> #REF! | O323: =VLOOKUP(F323,STATISTIK!$A:$D,10,FALSE) -> #REF! | Q323: =VLOOKUP(F323,STATISTIK!$A:$D,12,FALSE) -> #REF! | R323: =VLOOKUP(F323,STATISTIK!$A:$D,13,FALSE) -> #REF!
A324: 318 | B324: 1.05.010.012 | F324: Hasil penilaian SAKIP oleh Inspektorat untuk Badan Penanggulangan Bencana Daerah | G324: Statistik | H324: Badan Penanggulangan Bencana Daerah | I324: Terbatas | J324: =VLOOKUP(F324,STATISTIK!$A:$D,5,FALSE) -> #REF! | K324: Nilai | L324: =VLOOKUP(F324,STATISTIK!$A:$D,7,FALSE) -> #REF! | M324: Tahunan | N324: =VLOOKUP(F324,STATISTIK!$A:$D,9,FALSE) -> #REF! | O324: =VLOOKUP(F324,STATISTIK!$A:$D,10,FALSE) -> #REF! | Q324: =VLOOKUP(F324,STATISTIK!$A:$D,12,FALSE) -> #REF! | R324: =VLOOKUP(F324,STATISTIK!$A:$D,13,FALSE) -> #REF!
A325: 319 | B325: 1.05.012.001 | F325: Indeks kapasitas ketahanan dan keselamatan kebakaran | G325: Statistik | H325: Dinas Pemadam Kebakaran dan Penyelamatan | I325: Terbatas | J325: =VLOOKUP(F325,STATISTIK!$A:$D,5,FALSE) -> #REF! | L325: =VLOOKUP(F325,STATISTIK!$A:$D,7,FALSE) -> #REF! | M325: Tahunan | N325: =VLOOKUP(F325,STATISTIK!$A:$D,9,FALSE) -> #REF! | O325: =VLOOKUP(F325,STATISTIK!$A:$D,10,FALSE) -> #REF! | Q325: =VLOOKUP(F325,STATISTIK!$A:$D,12,FALSE) -> #REF! | R325: =VLOOKUP(F325,STATISTIK!$A:$D,13,FALSE) -> #REF!
A326: 320 | B326: 1.05.012.001.01 | F326: Ketepatan waktu rekomendasi proteksi kebakaran | G326: Statistik | H326: Dinas Pemadam Kebakaran dan Penyelamatan | I326: Terbatas | J326: =VLOOKUP(F326,STATISTIK!$A:$D,5,FALSE) -> #REF! | K326: % | L326: =VLOOKUP(F326,STATISTIK!$A:$D,7,FALSE) -> #REF! | M326: Tahunan | N326: =VLOOKUP(F326,STATISTIK!$A:$D,9,FALSE) -> #REF! | O326: =VLOOKUP(F326,STATISTIK!$A:$D,10,FALSE) -> #REF! | Q326: =VLOOKUP(F326,STATISTIK!$A:$D,12,FALSE) -> #REF! | R326: =VLOOKUP(F326,STATISTIK!$A:$D,13,FALSE) -> #REF!
A327: 321 | B327: 1.05.012.001.02 | F327: Edukasi penanggulangan kebakaran | G327: Statistik | H327: Dinas Pemadam Kebakaran dan Penyelamatan | I327: Terbatas | J327: =VLOOKUP(F327,STATISTIK!$A:$D,5,FALSE) -> #REF! | K327: % | L327: =VLOOKUP(F327,STATISTIK!$A:$D,7,FALSE) -> #REF! | M327: Tahunan | N327: =VLOOKUP(F327,STATISTIK!$A:$D,9,FALSE) -> #REF! | O327: =VLOOKUP(F327,STATISTIK!$A:$D,10,FALSE) -> #REF! | Q327: =VLOOKUP(F327,STATISTIK!$A:$D,12,FALSE) -> #REF! | R327: =VLOOKUP(F327,STATISTIK!$A:$D,13,FALSE) -> #REF!
A328: 322 | B328: 1.05.012.001.03 | F328: Penanggulangan kebakaran dan penyelamatan sesuai respontime (15 menit dalam kota) | G328: Statistik | H328: Dinas Pemadam Kebakaran dan Penyelamatan | I328: Terbatas | J328: =VLOOKUP(F328,STATISTIK!$A:$D,5,FALSE) -> #REF! | K328: % | L328: =VLOOKUP(F328,STATISTIK!$A:$D,7,FALSE) -> #REF! | M328: Tahunan | N328: =VLOOKUP(F328,STATISTIK!$A:$D,9,FALSE) -> #REF! | O328: =VLOOKUP(F328,STATISTIK!$A:$D,10,FALSE) -> #REF! | Q328: =VLOOKUP(F328,STATISTIK!$A:$D,12,FALSE) -> #REF! | R328: =VLOOKUP(F328,STATISTIK!$A:$D,13,FALSE) -> #REF!
A329: 323 | B329: 1.05.012.002 | F329: Hasil Penilaian Mandiri Reformasi Birokrasi oleh Inspektorat | G329: Statistik | H329: Dinas Pemadam Kebakaran dan Penyelamatan | I329: Terbatas | J329: =VLOOKUP(F329,STATISTIK!$A:$D,5,FALSE) -> #REF! | K329: Nilai | L329: =VLOOKUP(F329,STATISTIK!$A:$D,7,FALSE) -> #REF! | M329: Tahunan | N329: =VLOOKUP(F329,STATISTIK!$A:$D,9,FALSE) -> #REF! | O329: =VLOOKUP(F329,STATISTIK!$A:$D,10,FALSE) -> #REF! | Q329: =VLOOKUP(F329,STATISTIK!$A:$D,12,FALSE) -> #REF! | R329: =VLOOKUP(F329,STATISTIK!$A:$D,13,FALSE) -> #REF!
A330: 324 | B330: 1.05.012.002.01 | F330: Hasil Penilaian RB dalam bentuk persentase | G330: Statistik | H330: Dinas Pemadam Kebakaran dan Penyelamatan | I330: Terbatas | J330: =VLOOKUP(F330,STATISTIK!$A:$D,5,FALSE) -> #REF! | K330: Nilai | L330: =VLOOKUP(F330,STATISTIK!$A:$D,7,FALSE) -> #REF! | M330: Tahunan | N330: =VLOOKUP(F330,STATISTIK!$A:$D,9,FALSE) -> #REF! | O330: =VLOOKUP(F330,STATISTIK!$A:$D,10,FALSE) -> #REF! | Q330: =VLOOKUP(F330,STATISTIK!$A:$D,12,FALSE) -> #REF! | R330: =VLOOKUP(F330,STATISTIK!$A:$D,13,FALSE) -> #REF!
A331: 325 | B331: 1.05.012.003 | F331: Persentase edukasi penanggulangan kebakaran | G331: Statistik | H331: Dinas Pemadam Kebakaran dan Penyelamatan | I331: Terbatas | J331: =VLOOKUP(F331,STATISTIK!$A:$D,5,FALSE) -> #REF! | K331: % | L331: =VLOOKUP(F331,STATISTIK!$A:$D,7,FALSE) -> #REF! | M331: Tahunan | N331: =VLOOKUP(F331,STATISTIK!$A:$D,9,FALSE) -> #REF! | O331: =VLOOKUP(F331,STATISTIK!$A:$D,10,FALSE) -> #REF! | Q331: =VLOOKUP(F331,STATISTIK!$A:$D,12,FALSE) -> #REF! | R331: =VLOOKUP(F331,STATISTIK!$A:$D,13,FALSE) -> #REF!
A332: 326 | B332: 1.05.012.003.01 | F332: Jumlah pelaksanaan penyuluhan penanggulangan kebakaran di titik rawan bencana kebakaran | G332: Statistik | H332: Dinas Pemadam Kebakaran dan Penyelamatan | I332: Terbatas | J332: =VLOOKUP(F332,STATISTIK!$A:$D,5,FALSE) -> #REF! | K332: Kali | L332: =VLOOKUP(F332,STATISTIK!$A:$D,7,FALSE) -> #REF! | M332: Tahunan | N332: =VLOOKUP(F332,STATISTIK!$A:$D,9,FALSE) -> #REF! | O332: =VLOOKUP(F332,STATISTIK!$A:$D,10,FALSE) -> #REF! | Q332: =VLOOKUP(F332,STATISTIK!$A:$D,12,FALSE) -> #REF! | R332: =VLOOKUP(F332,STATISTIK!$A:$D,13,FALSE) -> #REF!
A333: 327 | B333: 1.05.012.003.02 | F333: Total penyuluhan penanggulangan kebakaran di titik rawan bencana kebakaran | G333: Statistik | H333: Dinas Pemadam Kebakaran dan Penyelamatan | I333: Terbatas | J333: =VLOOKUP(F333,STATISTIK!$A:$D,5,FALSE) -> #REF! | K333: Kemantren | L333: =VLOOKUP(F333,STATISTIK!$A:$D,7,FALSE) -> #REF! | M333: Tahunan | N333: =VLOOKUP(F333,STATISTIK!$A:$D,9,FALSE) -> #REF! | O333: =VLOOKUP(F333,STATISTIK!$A:$D,10,FALSE) -> #REF! | Q333: =VLOOKUP(F333,STATISTIK!$A:$D,12,FALSE) -> #REF! | R333: =VLOOKUP(F333,STATISTIK!$A:$D,13,FALSE) -> #REF!
A334: 328 | B334: 1.05.012.003.03 | F334: Jumlah edukasi penanggulangan kebakaran bagi anak didik TK yang dilayani | G334: Statistik | H334: Dinas Pemadam Kebakaran dan Penyelamatan | I334: Terbatas | J334: =VLOOKUP(F334,STATISTIK!$A:$D,5,FALSE) -> #REF! | K334: Kali | L334: =VLOOKUP(F334,STATISTIK!$A:$D,7,FALSE) -> #REF! | M334: Tahunan | N334: =VLOOKUP(F334,STATISTIK!$A:$D,9,FALSE) -> #REF! | O334: =VLOOKUP(F334,STATISTIK!$A:$D,10,FALSE) -> #REF! | Q334: =VLOOKUP(F334,STATISTIK!$A:$D,12,FALSE) -> #REF! | R334: =VLOOKUP(F334,STATISTIK!$A:$D,13,FALSE) -> #REF!
A335: 329 | B335: 1.05.012.003.04 | F335: Total permohonan edukasi penanggulangan kebakaran bagi anak didik TK | G335: Statistik | H335: Dinas Pemadam Kebakaran dan Penyelamatan | I335: Terbatas | J335: =VLOOKUP(F335,STATISTIK!$A:$D,5,FALSE) -> #REF! | K335: Kali | L335: =VLOOKUP(F335,STATISTIK!$A:$D,7,FALSE) -> #REF! | M335: Tahunan | N335: =VLOOKUP(F335,STATISTIK!$A:$D,9,FALSE) -> #REF! | O335: =VLOOKUP(F335,STATISTIK!$A:$D,10,FALSE) -> #REF! | Q335: =VLOOKUP(F335,STATISTIK!$A:$D,12,FALSE) -> #REF! | R335: =VLOOKUP(F335,STATISTIK!$A:$D,13,FALSE) -> #REF!
A336: 330 | B336: 1.05.012.003.05 | F336: Jumlah edukasi penanggulangan kebakaran bagi SDN dan SMPN yang dilaksanakan | G336: Statistik | H336: Dinas Pemadam Kebakaran dan Penyelamatan | I336: Terbatas | J336: =VLOOKUP(F336,STATISTIK!$A:$D,5,FALSE) -> #REF! | K336: Kali | L336: =VLOOKUP(F336,STATISTIK!$A:$D,7,FALSE) -> #REF! | M336: Tahunan | N336: =VLOOKUP(F336,STATISTIK!$A:$D,9,FALSE) -> #REF! | O336: =VLOOKUP(F336,STATISTIK!$A:$D,10,FALSE) -> #REF! | Q336: =VLOOKUP(F336,STATISTIK!$A:$D,12,FALSE) -> #REF! | R336: =VLOOKUP(F336,STATISTIK!$A:$D,13,FALSE) -> #REF!
A337: 331 | B337: 1.05.012.003.06 | F337: Total edukasi penanggulangan kebakaran bagi SDN dan SMPN yang rencanakan | G337: Statistik | H337: Dinas Pemadam Kebakaran dan Penyelamatan | I337: Terbatas | J337: =VLOOKUP(F337,STATISTIK!$A:$D,5,FALSE) -> #REF! | K337: Kali | L337: =VLOOKUP(F337,STATISTIK!$A:$D,7,FALSE) -> #REF! | M337: Tahunan | N337: =VLOOKUP(F337,STATISTIK!$A:$D,9,FALSE) -> #REF! | O337: =VLOOKUP(F337,STATISTIK!$A:$D,10,FALSE) -> #REF! | Q337: =VLOOKUP(F337,STATISTIK!$A:$D,12,FALSE) -> #REF! | R337: =VLOOKUP(F337,STATISTIK!$A:$D,13,FALSE) -> #REF!
... A348: 342 | B348: 1.05.012.007 | F348: Hasil penilaian SAKIP oleh Inspektorat untuk Dinas Pemadam Kebakaran dan Penyelamatan | G348: Statistik | H348: Dinas Pemadam Kebakaran dan Penyelamatan | I348: Terbatas | J348: =VLOOKUP(F348,STATISTIK!$A:$D,5,FALSE) -> #REF! | K348: Nilai | L348: =VLOOKUP(F348,STATISTIK!$A:$D,7,FALSE) -> #REF! | M348: Tahunan | N348: =VLOOKUP(F348,STATISTIK!$A:$D,9,FALSE) -> #REF! | O348: =VLOOKUP(F348,STATISTIK!$A:$D,10,FALSE) -> #REF! | Q348: =VLOOKUP(F348,STATISTIK!$A:$D,12,FALSE) -> #REF! | R348: =VLOOKUP(F348,STATISTIK!$A:$D,13,FALSE) -> #REF!
B349: 1.06 | F349: SOSIAL | G349: Statistik | I349: Terbatas | J349: =VLOOKUP(F349,STATISTIK!$A:$D,5,FALSE) -> #REF! | L349: =VLOOKUP(F349,STATISTIK!$A:$D,7,FALSE) -> #REF! | N349: =VLOOKUP(F349,STATISTIK!$A:$D,9,FALSE) -> #REF! | O349: =VLOOKUP(F349,STATISTIK!$A:$D,10,FALSE) -> #REF! | Q349: =VLOOKUP(F349,STATISTIK!$A:$D,12,FALSE) -> #REF! | R349: =VLOOKUP(F349,STATISTIK!$A:$D,13,FALSE) -> #REF!
A350: 343 | B350: 1.06.003.008 | F350: Persentase Potensi dan Sumber Kesejahteraan Sosial (PSKS) yang aktif | G350: Statistik | H350: Dinas Sosial Tenaga Kerja dan Transmigrasi | I350: Terbatas | J350: =VLOOKUP(F350,STATISTIK!$A:$D,5,FALSE) -> #REF! | K350: % | L350: =VLOOKUP(F350,STATISTIK!$A:$D,7,FALSE) -> #REF! | M350: Tahunan | N350: =VLOOKUP(F350,STATISTIK!$A:$D,9,FALSE) -> #REF! | O350: =VLOOKUP(F350,STATISTIK!$A:$D,10,FALSE) -> #REF! | Q350: =VLOOKUP(F350,STATISTIK!$A:$D,12,FALSE) -> #REF! | R350: =VLOOKUP(F350,STATISTIK!$A:$D,13,FALSE) -> #REF!
A351: 344 | B351: 1.06.003.008.01 | F351: - Karangtaruna | G351: Statistik | H351: Dinas Sosial Tenaga Kerja dan Transmigrasi | I351: Terbatas | J351: =VLOOKUP(F351,STATISTIK!$A:$D,5,FALSE) -> #N/A | K351: % | L351: =VLOOKUP(F351,STATISTIK!$A:$D,7,FALSE) -> #N/A | M351: Tahunan | N351: =VLOOKUP(F351,STATISTIK!$A:$D,9,FALSE) -> #N/A | O351: =VLOOKUP(F351,STATISTIK!$A:$D,10,FALSE) -> #N/A | Q351: =VLOOKUP(F351,STATISTIK!$A:$D,12,FALSE) -> #N/A | R351: =VLOOKUP(F351,STATISTIK!$A:$D,13,FALSE) -> #N/A
A352: 345 | B352: 1.06.003.008.01.01 | F352: Jumlah yang aktif | G352: Statistik | H352: Dinas Sosial Tenaga Kerja dan Transmigrasi | I352: Terbatas | J352: =VLOOKUP(F352,STATISTIK!$A:$D,5,FALSE) -> #N/A | K352: Lembaga | L352: =VLOOKUP(F352,STATISTIK!$A:$D,7,FALSE) -> #N/A | M352: Tahunan | N352: =VLOOKUP(F352,STATISTIK!$A:$D,9,FALSE) -> #N/A | O352: =VLOOKUP(F352,STATISTIK!$A:$D,10,FALSE) -> #N/A | Q352: =VLOOKUP(F352,STATISTIK!$A:$D,12,FALSE) -> #N/A | R352: =VLOOKUP(F352,STATISTIK!$A:$D,13,FALSE) -> #N/A
A353: 346 | B353: 1.06.003.008.01.02 | F353: Jumlah keseluruhan | G353: Statistik | H353: Dinas Sosial Tenaga Kerja dan Transmigrasi | I353: Terbatas | J353: =VLOOKUP(F353,STATISTIK!$A:$D,5,FALSE) -> #N/A | K353: Lembaga | L353: =VLOOKUP(F353,STATISTIK!$A:$D,7,FALSE) -> #N/A | M353: Tahunan | N353: =VLOOKUP(F353,STATISTIK!$A:$D,9,FALSE) -> #N/A | O353: =VLOOKUP(F353,STATISTIK!$A:$D,10,FALSE) -> #N/A | Q353: =VLOOKUP(F353,STATISTIK!$A:$D,12,FALSE) -> #N/A | R353: =VLOOKUP(F353,STATISTIK!$A:$D,13,FALSE) -> #N/A
A354: 347 | B354: 1.06.003.008.02 | F354: - WKSBM | G354: Statistik | H354: Dinas Sosial Tenaga Kerja dan Transmigrasi | I354: Terbatas | J354: =VLOOKUP(F354,STATISTIK!$A:$D,5,FALSE) -> #N/A | K354: % | L354: =VLOOKUP(F354,STATISTIK!$A:$D,7,FALSE) -> #N/A | M354: Tahunan | N354: =VLOOKUP(F354,STATISTIK!$A:$D,9,FALSE) -> #N/A | O354: =VLOOKUP(F354,STATISTIK!$A:$D,10,FALSE) -> #N/A | Q354: =VLOOKUP(F354,STATISTIK!$A:$D,12,FALSE) -> #N/A | R354: =VLOOKUP(F354,STATISTIK!$A:$D,13,FALSE) -> #N/A
A355: 348 | B355: 1.06.003.008.02.01 | F355: Jumlah yang aktif | G355: Statistik | H355: Dinas Sosial Tenaga Kerja dan Transmigrasi | I355: Terbatas | J355: =VLOOKUP(F355,STATISTIK!$A:$D,5,FALSE) -> #N/A | K355: Lembaga | L355: =VLOOKUP(F355,STATISTIK!$A:$D,7,FALSE) -> #N/A | M355: Tahunan | N355: =VLOOKUP(F355,STATISTIK!$A:$D,9,FALSE) -> #N/A | O355: =VLOOKUP(F355,STATISTIK!$A:$D,10,FALSE) -> #N/A | Q355: =VLOOKUP(F355,STATISTIK!$A:$D,12,FALSE) -> #N/A | R355: =VLOOKUP(F355,STATISTIK!$A:$D,13,FALSE) -> #N/A
A356: 349 | B356: 1.06.003.008.02.02 | F356: Jumlah keseluruhan | G356: Statistik | H356: Dinas Sosial Tenaga Kerja dan Transmigrasi | I356: Terbatas | J356: =VLOOKUP(F356,STATISTIK!$A:$D,5,FALSE) -> #N/A | K356: Lembaga | L356: =VLOOKUP(F356,STATISTIK!$A:$D,7,FALSE) -> #N/A | M356: Tahunan | N356: =VLOOKUP(F356,STATISTIK!$A:$D,9,FALSE) -> #N/A | O356: =VLOOKUP(F356,STATISTIK!$A:$D,10,FALSE) -> #N/A | Q356: =VLOOKUP(F356,STATISTIK!$A:$D,12,FALSE) -> #N/A | R356: =VLOOKUP(F356,STATISTIK!$A:$D,13,FALSE) -> #N/A
A357: 350 | B357: 1.06.003.008.03 | F357: - LKS | G357: Statistik | H357: Dinas Sosial Tenaga Kerja dan Transmigrasi | I357: Terbatas | J357: =VLOOKUP(F357,STATISTIK!$A:$D,5,FALSE) -> #N/A | K357: % | L357: =VLOOKUP(F357,STATISTIK!$A:$D,7,FALSE) -> #N/A | M357: Tahunan | N357: =VLOOKUP(F357,STATISTIK!$A:$D,9,FALSE) -> #N/A | O357: =VLOOKUP(F357,STATISTIK!$A:$D,10,FALSE) -> #N/A | Q357: =VLOOKUP(F357,STATISTIK!$A:$D,12,FALSE) -> #N/A | R357: =VLOOKUP(F357,STATISTIK!$A:$D,13,FALSE) -> #N/A
A358: 351 | B358: 1.06.003.008.03.01 | F358: Jumlah yang aktif | G358: Statistik | H358: Dinas Sosial Tenaga Kerja dan Transmigrasi | I358: Terbatas | J358: =VLOOKUP(F358,STATISTIK!$A:$D,5,FALSE) -> #N/A | K358: Lembaga | L358: =VLOOKUP(F358,STATISTIK!$A:$D,7,FALSE) -> #N/A | M358: Tahunan | N358: =VLOOKUP(F358,STATISTIK!$A:$D,9,FALSE) -> #N/A | O358: =VLOOKUP(F358,STATISTIK!$A:$D,10,FALSE) -> #N/A | Q358: =VLOOKUP(F358,STATISTIK!$A:$D,12,FALSE) -> #N/A | R358: =VLOOKUP(F358,STATISTIK!$A:$D,13,FALSE) -> #N/A
A359: 352 | B359: 1.06.003.008.03.02 | F359: Jumlah keseluruhan | G359: Statistik | H359: Dinas Sosial Tenaga Kerja dan Transmigrasi | I359: Terbatas | J359: =VLOOKUP(F359,STATISTIK!$A:$D,5,FALSE) -> #N/A | K359: Lembaga | L359: =VLOOKUP(F359,STATISTIK!$A:$D,7,FALSE) -> #N/A | M359: Tahunan | N359: =VLOOKUP(F359,STATISTIK!$A:$D,9,FALSE) -> #N/A | O359: =VLOOKUP(F359,STATISTIK!$A:$D,10,FALSE) -> #N/A | Q359: =VLOOKUP(F359,STATISTIK!$A:$D,12,FALSE) -> #N/A | R359: =VLOOKUP(F359,STATISTIK!$A:$D,13,FALSE) -> #N/A
A360: 353 | B360: 1.06.003.008.04 | F360: - TKSK | G360: Statistik | H360: Dinas Sosial Tenaga Kerja dan Transmigrasi | I360: Terbatas | J360: =VLOOKUP(F360,STATISTIK!$A:$D,5,FALSE) -> #N/A | K360: % | L360: =VLOOKUP(F360,STATISTIK!$A:$D,7,FALSE) -> #N/A | M360: Tahunan | N360: =VLOOKUP(F360,STATISTIK!$A:$D,9,FALSE) -> #N/A | O360: =VLOOKUP(F360,STATISTIK!$A:$D,10,FALSE) -> #N/A | Q360: =VLOOKUP(F360,STATISTIK!$A:$D,12,FALSE) -> #N/A | R360: =VLOOKUP(F360,STATISTIK!$A:$D,13,FALSE) -> #N/A
A361: 354 | B361: 1.06.003.008.04.01 | F361: Jumlah yang aktif | G361: Statistik | H361: Dinas Sosial Tenaga Kerja dan Transmigrasi | I361: Terbatas | J361: =VLOOKUP(F361,STATISTIK!$A:$D,5,FALSE) -> #N/A | K361: Orang | L361: =VLOOKUP(F361,STATISTIK!$A:$D,7,FALSE) -> #N/A | M361: Tahunan | N361: =VLOOKUP(F361,STATISTIK!$A:$D,9,FALSE) -> #N/A | O361: =VLOOKUP(F361,STATISTIK!$A:$D,10,FALSE) -> #N/A | Q361: =VLOOKUP(F361,STATISTIK!$A:$D,12,FALSE) -> #N/A | R361: =VLOOKUP(F361,STATISTIK!$A:$D,13,FALSE) -> #N/A
... A404: 397 | B404: 1.06.004.001 | F404: Indeks Penanganan Masalah Kesejahteraan Sosial | G404: Statistik | H404: Dinas Sosial Tenaga Kerja dan Transmigrasi | I404: Terbatas | J404: =VLOOKUP(F404,STATISTIK!$A:$D,5,FALSE) -> #REF! | K404: % | L404: =VLOOKUP(F404,STATISTIK!$A:$D,7,FALSE) -> #REF! | M404: Tahunan | N404: =VLOOKUP(F404,STATISTIK!$A:$D,9,FALSE) -> #REF! | O404: =VLOOKUP(F404,STATISTIK!$A:$D,10,FALSE) -> #REF! | Q404: =VLOOKUP(F404,STATISTIK!$A:$D,12,FALSE) -> #REF! | R404: =VLOOKUP(F404,STATISTIK!$A:$D,13,FALSE) -> #REF!
B405: 2.07 | F405: TENAGA KERJA | G405: Statistik | I405: Terbatas | J405: =VLOOKUP(F405,STATISTIK!$A:$D,5,FALSE) -> #REF! | L405: =VLOOKUP(F405,STATISTIK!$A:$D,7,FALSE) -> #REF! | N405: =VLOOKUP(F405,STATISTIK!$A:$D,9,FALSE) -> #REF! | O405: =VLOOKUP(F405,STATISTIK!$A:$D,10,FALSE) -> #REF! | Q405: =VLOOKUP(F405,STATISTIK!$A:$D,12,FALSE) -> #REF! | R405: =VLOOKUP(F405,STATISTIK!$A:$D,13,FALSE) -> #REF!
A406: 398 | B406: 2.07.002.013 | F406: Persentase Perusahaan yang sudah melaksanakan Struktur dan Skala Upah | G406: Statistik | H406: Dinas Sosial Tenaga Kerja dan Transmigrasi | I406: Terbatas | J406: =VLOOKUP(F406,STATISTIK!$A:$D,5,FALSE) -> #REF! | K406: % | L406: =VLOOKUP(F406,STATISTIK!$A:$D,7,FALSE) -> #REF! | M406: Tahunan | N406: =VLOOKUP(F406,STATISTIK!$A:$D,9,FALSE) -> #REF! | O406: =VLOOKUP(F406,STATISTIK!$A:$D,10,FALSE) -> #REF! | Q406: =VLOOKUP(F406,STATISTIK!$A:$D,12,FALSE) -> #REF! | R406: =VLOOKUP(F406,STATISTIK!$A:$D,13,FALSE) -> #REF!
A407: 399 | B407: 2.07.002.013.01 | F407: Perusahaan yang sudah melaksanakan Struktur dan Skala Upah | G407: Statistik | H407: Dinas Sosial Tenaga Kerja dan Transmigrasi | I407: Terbatas | J407: =VLOOKUP(F407,STATISTIK!$A:$D,5,FALSE) -> #REF! | K407: Unit | L407: =VLOOKUP(F407,STATISTIK!$A:$D,7,FALSE) -> #REF! | M407: Tahunan | N407: =VLOOKUP(F407,STATISTIK!$A:$D,9,FALSE) -> #REF! | O407: =VLOOKUP(F407,STATISTIK!$A:$D,10,FALSE) -> #REF! | Q407: =VLOOKUP(F407,STATISTIK!$A:$D,12,FALSE) -> #REF! | R407: =VLOOKUP(F407,STATISTIK!$A:$D,13,FALSE) -> #REF!
A408: 400 | B408: 2.07.002.013.02 | F408: Jumlah Total Perusahaan | G408: Statistik | H408: Dinas Sosial Tenaga Kerja dan Transmigrasi | I408: Terbatas | J408: =VLOOKUP(F408,STATISTIK!$A:$D,5,FALSE) -> #REF! | K408: Unit | L408: =VLOOKUP(F408,STATISTIK!$A:$D,7,FALSE) -> #REF! | M408: Tahunan | N408: =VLOOKUP(F408,STATISTIK!$A:$D,9,FALSE) -> #REF! | O408: =VLOOKUP(F408,STATISTIK!$A:$D,10,FALSE) -> #REF! | Q408: =VLOOKUP(F408,STATISTIK!$A:$D,12,FALSE) -> #REF! | R408: =VLOOKUP(F408,STATISTIK!$A:$D,13,FALSE) -> #REF!
A409: 401 | B409: 2.07.002.021 | F409: Persentase Penempatan Peserta Pelatihan Berbasis Kompetensi di Sektor Formal dan Non Formal | G409: Statistik | H409: Dinas Sosial Tenaga Kerja dan Transmigrasi | I409: Terbatas | J409: =VLOOKUP(F409,STATISTIK!$A:$D,5,FALSE) -> #REF! | K409: % | L409: =VLOOKUP(F409,STATISTIK!$A:$D,7,FALSE) -> #REF! | M409: Tahunan | N409: =VLOOKUP(F409,STATISTIK!$A:$D,9,FALSE) -> #REF! | O409: =VLOOKUP(F409,STATISTIK!$A:$D,10,FALSE) -> #REF! | Q409: =VLOOKUP(F409,STATISTIK!$A:$D,12,FALSE) -> #REF! | R409: =VLOOKUP(F409,STATISTIK!$A:$D,13,FALSE) -> #REF!
A410: 402 | B410: 2.07.002.022 | F410: Persentase Penempatan Tenaga Kerja | G410: Statistik | H410: Dinas Sosial Tenaga Kerja dan Transmigrasi | I410: Terbatas | J410: =VLOOKUP(F410,STATISTIK!$A:$D,5,FALSE) -> #REF! | K410: % | L410: =VLOOKUP(F410,STATISTIK!$A:$D,7,FALSE) -> #REF! | M410: Tahunan | N410: =VLOOKUP(F410,STATISTIK!$A:$D,9,FALSE) -> #REF! | O410: =VLOOKUP(F410,STATISTIK!$A:$D,10,FALSE) -> #REF! | Q410: =VLOOKUP(F410,STATISTIK!$A:$D,12,FALSE) -> #REF! | R410: =VLOOKUP(F410,STATISTIK!$A:$D,13,FALSE) -> #REF!
A411: 403 | B411: 2.07.002.022.01 | F411: Jumlah lowongan kerja | G411: Statistik | H411: Dinas Sosial Tenaga Kerja dan Transmigrasi | I411: Terbatas | J411: =VLOOKUP(F411,STATISTIK!$A:$D,5,FALSE) -> #REF! | K411: Lowongan | L411: =VLOOKUP(F411,STATISTIK!$A:$D,7,FALSE) -> #REF! | M411: bulanan | N411: =VLOOKUP(F411,STATISTIK!$A:$D,9,FALSE) -> #REF! | O411: =VLOOKUP(F411,STATISTIK!$A:$D,10,FALSE) -> #REF! | Q411: =VLOOKUP(F411,STATISTIK!$A:$D,12,FALSE) -> #REF! | R411: =VLOOKUP(F411,STATISTIK!$A:$D,13,FALSE) -> #REF!
A412: 404 | B412: 2.07.002.022.02 | F412: Jumlah tenaga kerja yang ditempatkan | G412: Statistik | H412: Dinas Sosial Tenaga Kerja dan Transmigrasi | I412: Terbatas | J412: =VLOOKUP(F412,STATISTIK!$A:$D,5,FALSE) -> #REF! | K412: orang | L412: =VLOOKUP(F412,STATISTIK!$A:$D,7,FALSE) -> #REF! | M412: bulanan | N412: =VLOOKUP(F412,STATISTIK!$A:$D,9,FALSE) -> #REF! | O412: =VLOOKUP(F412,STATISTIK!$A:$D,10,FALSE) -> #REF! | Q412: =VLOOKUP(F412,STATISTIK!$A:$D,12,FALSE) -> #REF! | R412: =VLOOKUP(F412,STATISTIK!$A:$D,13,FALSE) -> #REF!
A413: 405 | B413: 2.07.002.023 | F413: Persentase perusahaan yang sudah mempunyai sarana hubungan industrial | G413: Statistik | H413: Dinas Sosial Tenaga Kerja dan Transmigrasi | I413: Terbatas | J413: =VLOOKUP(F413,STATISTIK!$A:$D,5,FALSE) -> #N/A | K413: % | L413: =VLOOKUP(F413,STATISTIK!$A:$D,7,FALSE) -> #N/A | M413: Tahunan | N413: =VLOOKUP(F413,STATISTIK!$A:$D,9,FALSE) -> #N/A | O413: =VLOOKUP(F413,STATISTIK!$A:$D,10,FALSE) -> #N/A | Q413: =VLOOKUP(F413,STATISTIK!$A:$D,12,FALSE) -> #N/A | R413: =VLOOKUP(F413,STATISTIK!$A:$D,13,FALSE) -> #N/A
A414: 406 | B414: 2.07.002.023.01 | F414: Jumlah perusahaan yang mempunyai sarana hubungan industrial | G414: Statistik | H414: Dinas Sosial Tenaga Kerja dan Transmigrasi | I414: Terbatas | J414: =VLOOKUP(F414,STATISTIK!$A:$D,5,FALSE) -> #REF! | K414: Perusahaan | L414: =VLOOKUP(F414,STATISTIK!$A:$D,7,FALSE) -> #REF! | M414: Tahunan | N414: =VLOOKUP(F414,STATISTIK!$A:$D,9,FALSE) -> #REF! | O414: =VLOOKUP(F414,STATISTIK!$A:$D,10,FALSE) -> #REF! | Q414: =VLOOKUP(F414,STATISTIK!$A:$D,12,FALSE) -> #REF! | R414: =VLOOKUP(F414,STATISTIK!$A:$D,13,FALSE) -> #REF!
...

Sheet STATISTIK
A1: Nama Data | B1: Produsen Data | C1: Definisi | D1: Satuan | E1: Data 2024
A2: PENDIDIKAN
A3: Rasio Guru dengan Murid
A4: Rasio Jumlah Murid per Guru Jenjang SD | B4: Dinas Pendidikan, Pemuda, dan Olahraga Kota Yogyakarta | C4: Persentase antara Jumlah murid dengan Jumlah guru jenjang sekolah dasar di wilayah Kota Yogyakarta pada tahun berkenaan. | D4: - | E4: 15.77
A5: Rasio Jumlah Murid per Guru Jenjang SMP | B5: Dinas Pendidikan, Pemuda, dan Olahraga Kota Yogyakarta | C5: Persentase antara Jumlah murid dengan Jumlah guru jenjang Sekolah Menengah Pertama di wilayah Daerah Istimewa Yogyakarta. | D5: - | E5: 14.28
A6: Rasio guru per murid per kelas rata-rata Jenjang SD | B6: Dinas Pendidikan, Pemuda, dan Olahraga Kota Yogyakarta | C6: Persentase antara Jumlah murid dengan Jumlah guru jenjang sekolah dasar di wilayah Kota Yogyakarta pada tahun berkenaan. | D6: - | E6: 633.5
A7: Rasio guru per murid per kelas rata-rata Jenjang SMP | B7: Dinas Pendidikan, Pemuda, dan Olahraga Kota Yogyakarta | C7: Persentase antara Jumlah murid dengan Jumlah guru jenjang Sekolah Menengah Pertama di wilayah Daerah Istimewa Yogyakarta. | D7: - | E7: 681.37
A8: Rasio Ketersediaan Sekolah/Penduduk Usia Sekolah Pendidikan Dasar | B8: Dinas Pendidikan, Pemuda, dan Olahraga Kota Yogyakarta | C8: Rasio ketersediaan jumlah sekolah di jenjang pendidikan terhadap jumlah penduduk yang berada pada usia pendidikan dasar | D8: - | E8: 41.09
A9: Angka Partisipasi Sekolah (APS)
A10: Angka Partisipasi Sekolah (APS) SD/MI (usia 7 - 12 Tahun) | B10: Dinas Pendidikan, Pemuda, dan Olahraga Kota Yogyakarta | C10: Proporsi dari penduduk kelompok usia 7-12 tahun yang sedang bersekolah terhadap penduduk berusia 7-12 tahun di wilayah Kota Yogyakarta pada tahun berkenaan. | D10: % | E10: 99.99
A11: Angka Partisipasi Sekolah (APS) SMP/MTs (usia 13 - 15 Tahun) | B11: Dinas Pendidikan, Pemuda, dan Olahraga Kota Yogyakarta | C11: Proporsi dari penduduk kelompok usia 13-15 tahun yang sedang bersekolah terhadap penduduk berusia 13-15 tahun di wilayah Kota Yogyakarta pada tahun berkenaan. | D11: % | E11: 99.98
A12: Angka Partisipasi Kasar (APK)
A13: Angka Partisipasi Kasar (APK) PAUD | B13: Dinas Pendidikan, Pemuda, dan Olahraga Kota Yogyakarta | C13: Persentase Angka Partisipasi Kasar (APK) PAUD di wilayah Kota Yogyakarta pada tahun berkenaan. | D13: % | E13: 125.71
A14: Angka Partisipasi Kasar (APK) Jenjang SD | B14: Dinas Pendidikan, Pemuda, dan Olahraga Kota Yogyakarta | C14: Perbandingan antara Jumlah Siswa Sekolah Dasar Sederajat (SD/MI)/sederajat dengan Jumlah penduduk usia 7-12 tahun di wilayah Kota Yogyakarta pada tahun berkenaan. Data dari Dapodik, tidak termasuk data Aplikasi EMIS Kemenag. | D14: % | E14: 110.91
A15: Angka Partisipasi Kasar (APK) Jenjang SMP | B15: Dinas Pendidikan, Pemuda, dan Olahraga Kota Yogyakarta | C15: Perbandingan antara Jumlah murid SMP/MTS/sederajat dengan Jumlah penduduk usia 13-15 tahun di wilayah Kota Yogyakarta pada tahun berkenaan. | D15: % | E15: 123.74
A16: Angka Partisipasi Murni (APM)
A17: Angka Partisipasi Murni (APM) Jenjang SD | B17: Dinas Pendidikan, Pemuda, dan Olahraga Kota Yogyakarta | C17: Perbandingan antara Jumlah Siswa Sekolah Dasar Sederajat (SD/MI)/paket A usia 7-12 tahun dengan Jumlah penduduk usia 7-12 tahun di wilayah Kota Yogyakarta pada tahun berkenaan. Data dari Dapodik, tidak termasuk data Aplikasi EMIS Kemenag. | D17: % | E17: 104.67
A18: Angka Partisipasi Murni (APM) Jenjang SMP | B18: Dinas Pendidikan, Pemuda, dan Olahraga Kota Yogyakarta | C18: Perbandingan antara Jumlah murid SMP/MTS/Paket B usia 13-15 tahun dengan Jumlah penduduk usia 13-15 tahun di wilayah Kota Yogyakarta pada tahun berkenaan. | D18: % | E18: 108.1
A19: Angka Putus Sekolah Per Jenjang Pendidikan
A20: Angka Putus Sekolah Jenjang SD | B20: Dinas Pendidikan, Pemuda, dan Olahraga Kota Yogyakarta | C20: Proporsi anak menurut kelompok usia sekolah yang sudah tidak bersekolah lagi atau yang tidak menamatkan jenjang pendidikan SD/MI. Adapun kelompok umur yang dimaksud adalah kelompok umur 7-12 tahun, terhadap kelompok umur tersebut yang pernah/sedang bersekolah pada kelompok umur dimaksud di wilayah Kota Yogyakarta pada tahun berkenaan. | D20: % | E20: 0.003
A21: Jumlah anak putus sekolah SD | B21: Dinas Pendidikan, Pemuda, dan Olahraga Kota Yogyakarta | C21: Jumlah anak menurut kelompok usia 7-12 tahun yang sudah tidak bersekolah lagi atau yang tidak menamatkan jenjang pendidikan SD/MI. di wilayah Kota Yogyakarta pada tahun berkenaan. | D21: Orang | E21: 1
A22: Angka Putus Sekolah Jenjang SMP | B22: Dinas Pendidikan, Pemuda, dan Olahraga Kota Yogyakarta | C22: Jumlah anak menurut kelompok usia 13-15 tahun yang sudah tidak bersekolah lagi atau yang tidak menamatkan jenjang pendidikan SMP/MTS. di wilayah Kota Yogyakarta pada tahun berkenaan. | D22: % | E22: 0.02
A23: Jumlah anak putus sekolah SMP | B23: Dinas Pendidikan, Pemuda, dan Olahraga Kota Yogyakarta | C23: Jumlah anak menurut kelompok usia 13-15 tahun yang sudah tidak bersekolah lagi atau yang tidak menamatkan jenjang pendidikan SMP/MTS. di wilayah Kota Yogyakarta pada tahun berkenaan. | D23: Orang | E23: 5
A24: Angka Kelulusan Per Jenjang Pendidikan
A25: Angka Kelulusan SD | B25: Dinas Pendidikan, Pemuda, dan Olahraga Kota Yogyakarta | C25: Persentase peserta didik yang dinyatakan lulus dari jenjang Sekolah Dasar (SD) atau Madrasah Ibtidaiyah (MI) pada tahun tertentu dibandingkan dengan jumlah peserta didik yang mengikuti ujian atau asesmen akhir di jenjang tersebut pada tahun yang sama | D25: % | E25: 100
A26: Jumlah lulusan pada jenjang SD | B26: Dinas Pendidikan, Pemuda, dan Olahraga Kota Yogyakarta | C26: Persentase peserta didik yang dinyatakan lulus dari jenjang Sekolah Dasar (SD) atau Madrasah Ibtidaiyah (MI) pada tahun tertentu dibandingkan dengan jumlah peserta didik yang mengikuti ujian atau asesmen akhir di jenjang tersebut pada tahun yang sama | D26: Orang | E26: 6855
A27: Jumlah peserta didik kelas terakhir SD | B27: Dinas Pendidikan, Pemuda, dan Olahraga Kota Yogyakarta | C27: Jumlah total lulusan pada jenjang SD/MI tahun ajaran sebelumnya di wilayah Kota Yogyakarta pada tahun berkenaan. | D27: Orang | E27: 6640
A28: Persentase kelulusan ujian nasional SD | B28: Dinas Pendidikan, Pemuda, dan Olahraga Kota Yogyakarta | C28: persentase peserta didik yang berhasil lulus ujian nasional atau ujian akhir sekolah dari total peserta ujian | D28: % | E28: n/a
A29: Proporsi Murid Kelas 1 yang Berhasil Menamatkan Sekolah Dasar | B29: Dinas Pendidikan, Pemuda, dan Olahraga Kota Yogyakarta | C29: Persentase peserta didik yang memulai pendidikan di kelas 1 sekolah dasar (SD) pada tahun tertentu dan berhasil menamatkan pendidikan hingga kelas 6 SD, dibandingkan dengan seluruh peserta didik yang masuk kelas 1 pada tahun tersebut | D29: % | E29: 110
A30: Angka Kelulusan SMP | B30: Dinas Pendidikan, Pemuda, dan Olahraga Kota Yogyakarta | C30: Persentase peserta didik pada jenjang SMP atau MTs yang dinyatakan lulus (memenuhi syarat kelulusan) dibandingkan dengan jumlah peserta didik yang mengikuti ujian atau asesmen akhir kelulusan pada jenjang tersebut di periode yang sama. | D30: % | E30: 100
A31: Jumlah lulusan pada jenjang SMP | B31: Dinas Pendidikan, Pemuda, dan Olahraga Kota Yogyakarta | C31: Jumlah total lulusan pada jenjang SMP/MTs tahun ajaran sebelumnya di wilayah Kota Yogyakarta pada tahun berkenaan. | D31: Orang | E31: 6776
A32: Jumlah peserta didik kelas terakhir SMP | B32: Dinas Pendidikan, Pemuda, dan Olahraga Kota Yogyakarta | C32: Jumlah total lulusan pada jenjang SMP/MTs tahun ajaran sebelumnya di wilayah Kota Yogyakarta pada tahun berkenaan. | D32: Orang | E32: 6665
A33: Persentase kelulusan ujian nasional SMP | B33: Dinas Pendidikan, Pemuda, dan Olahraga Kota Yogyakarta | C33: persentase peserta didik yang berhasil lulus ujian nasional atau ujian akhir sekolah dari total peserta ujian | D33: % | E33: n/a
A34: Angka Melanjutkan
A35: Angka melanjutkan Jenjang SD ke SMP | B35: Dinas Pendidikan, Pemuda, dan Olahraga Kota Yogyakarta | C35: Persentase siswa yang duduk di kelas terakhir jenjang SD/MI pada tahun ajaran lalu dan duduk di kelas 1 jenjang SMP/MTS pada tahun ajaran sekarang terhadap siswa yang duduk di kelas terakhir jenjang SD/MI pada tahun ajaran lalu di wilayah Kota Yogyakarta pada tahun berkenaan. | D35: % | E35: 115.31
A36: Jumlah siswa baru tingkat I pada jenjang SMP | B36: Dinas Pendidikan, Pemuda, dan Olahraga Kota Yogyakarta | C36: Jumlah siswa yang duduk di kelas pertama jenjang SMP/MTs pada tahun ajaran baru di wilayah Kota Yogyakarta pada tahun berkenaan. | D36: Orang | E36: 7065
A37: Jumlah lulusan pada jenjang SD tahun ajaran sebelumnya | B37: Dinas Pendidikan, Pemuda, dan Olahraga Kota Yogyakarta | C37: Jumlah total lulusan pada jenjang SD/MI tahun ajaran sebelumnya di wilayah Kota Yogyakarta pada tahun berkenaan. | D37: Orang | E37: 7033
A38: Angka melanjutkan Jenjang SMP ke SMA/SMK/MA | B38: Dinas Pendidikan, Pemuda, dan Olahraga Kota Yogyakarta | C38: Persentase siswa yang duduk di kelas terakhir jenjang SMP/MTs pada tahun ajaran lalu dan duduk di kelas 1 jenjang SMA/SMK/MA pada tahun ajaran sekarang terhadap siswa yang duduk di kelas terakhir jenjang SMP/MTs pada tahun ajaran lalu di wilayah Kota Yogyakarta pada tahun berkenaan. | D38: % | E38: 166.93
A39: Jumlah siswa baru tingkat I pada jenjang SMA/SMK/MA | B39: Dinas Pendidikan, Pemuda, dan Olahraga Kota Yogyakarta | C39: Jumlah siswa yang duduk di kelas pertama jenjang SMA/SMK/MA pada tahun ajaran baru di wilayah Kota Yogyakarta pada tahun berkenaan. | D39: Orang | E39: 12854
A40: Jumlah lulusan pada jenjang SMP tahun ajaran sebelumnya | B40: Dinas Pendidikan, Pemuda, dan Olahraga Kota Yogyakarta | C40: Jumlah total lulusan pada jenjang SMP/MTs tahun ajaran sebelumnya di wilayah Kota Yogyakarta pada tahun berkenaan. | D40: Orang | E40: 7805
A41: Jumlah Sekolah
A42: Jumlah Taman Kanak-Kanak (TK) | B42: Dinas Pendidikan, Pemuda, dan Olahraga Kota Yogyakarta | C42: Jumlah tempat pendidikan pra sekolah sebelum SD/sederajat di wilayah Kota Yogyakarta pada tahun berkenaan. | D42: Unit | E42: 13646
A43: Jumlah Taman Kanak-Kanak (TK) Negeri | B43: Dinas Pendidikan, Pemuda, dan Olahraga Kota Yogyakarta | C43: Jumlah tempat pendidikan pra sekolah sebelum SD/sederajat di wilayah Kota Yogyakarta pada tahun berkenaan. | D43: Unit | E43: 11
A44: Jumlah Taman Kanak-Kanak (TK) Negeri Layak | B44: Dinas Pendidikan, Pemuda, dan Olahraga Kota Yogyakarta | C44: Jumlah tempat pendidikan pra sekolah sebelum SD/sederajat di wilayah Kota Yogyakarta pada tahun berkenaan. | D44: Unit | E44: 11
A45: Jumlah Taman Kanak-Kanak (TK) Negeri Tidak Layak | B45: Dinas Pendidikan, Pemuda, dan Olahraga Kota Yogyakarta | C45: Jumlah tempat pendidikan pra sekolah sebelum SD/sederajat di wilayah Kota Yogyakarta pada tahun berkenaan. | D45: Unit | E45: 0
A46: Jumlah Taman Kanak-Kanak (TK) Swasta | B46: Dinas Pendidikan, Pemuda, dan Olahraga Kota Yogyakarta | C46: Jumlah tempat pendidikan pra sekolah sebelum SD/sederajat di wilayah Kota Yogyakarta pada tahun berkenaan. | D46: Unit | E46: 206
A47: Jumlah Taman Kanak-Kanak (TK) Swasta Layak | B47: Dinas Pendidikan, Pemuda, dan Olahraga Kota Yogyakarta | C47: Jumlah tempat pendidikan pra sekolah sebelum SD/sederajat di wilayah Kota Yogyakarta pada tahun berkenaan. | D47: Unit | E47: 206
A48: Jumlah Taman Kanak-Kanak (TK) Swasta Tidak Layak | B48: Dinas Pendidikan, Pemuda, dan Olahraga Kota Yogyakarta | C48: Jumlah tempat pendidikan pra sekolah sebelum SD/sederajat di wilayah Kota Yogyakarta pada tahun berkenaan. | D48: Unit | E48: 0
A49: Jumlah Sekolah Dasar (SD) | B49: Dinas Pendidikan, Pemuda, dan Olahraga Kota Yogyakarta | C49: Jumlah SD yang yang dikelola oleh pihak pemerintah | D49: Unit | E49: 162
A50: Jumlah Sekolah Dasar (SD) Negeri | B50: Dinas Pendidikan, Pemuda, dan Olahraga Kota Yogyakarta | C50: Jumlah SD yang yang dikelola oleh pihak pemerintah | D50: Unit | E50: 87
A51: Jumlah Sekolah Dasar (SD) Negeri Layak | B51: Dinas Pendidikan, Pemuda, dan Olahraga Kota Yogyakarta | C51: Jumlah SD yang yang dikelola oleh pihak pemerintah | D51: Unit | E51: 87
A52: Jumlah Sekolah Dasar (SD) Negeri Tidak Layak | B52: Dinas Pendidikan, Pemuda, dan Olahraga Kota Yogyakarta | C52: Jumlah SD yang yang dikelola oleh pihak pemerintah | D52: Unit | E52: 0
A53: Jumlah Sekolah Dasar (SD) Swasta | B53: Dinas Pendidikan, Pemuda, dan Olahraga Kota Yogyakarta | C53: Jumlah Sekolah Dasar yang dikelola oleh pihak Swasta | D53: Unit | E53: 75
... A64: Jumlah Sekolah Dasar yang Terakreditasi | B64: Dinas Pendidikan, Pemuda, dan Olahraga Kota Yogyakarta | C64: Jumlah sekolah yang memenuhi kelayakan program dan satuan pendidikan formal dengan mengacu pada standar nasional pendidikan di wilayah Kota Yogyakarta pada tahun berkenaan. | D64: Unit | E64: 162
A65: Jumlah Sekolah Menengah Pertama yang Terakreditasi | B65: Dinas Pendidikan, Pemuda, dan Olahraga Kota Yogyakarta | C65: Jumlah sekolah yang memenuhi kelayakan program dan satuan pendidikan formal dengan mengacu pada standar nasional pendidikan di wilayah Kota Yogyakarta pada tahun berkenaan. | D65: Unit | E65: =E63-162 -> 272
A66: Persentase Sekolah Dasar yang Terakreditasi | B66: Dinas Pendidikan, Pemuda, dan Olahraga Kota Yogyakarta | C66: Perbandingan Jumlah SD/MI dengan akreditasi minimal B dengan Jumlah SD/MI secara keseluruhan di wilayah Kota Yogyakarta pada tahun berkenaan. | D66: % | E66: 100
A67: Persentase Sekolah Menengah Pertama yang Terakreditasi | B67: Dinas Pendidikan, Pemuda, dan Olahraga Kota Yogyakarta | C67: Perbandingan Jumlah SMP/MTs dengan akreditasi minimal B dengan Jumlah SMP/MTs secara keseluruhan di wilayah Kota Yogyakarta pada tahun berkenaan. | D67: % | E67: 100
A68: Meningkatnya persentase SD terakreditasi minimal B | B68: Dinas Pendidikan, Pemuda, dan Olahraga Kota Yogyakarta | C68: Perbandingan Jumlah SD/MI dengan akreditasi minimal B dengan Jumlah SD/MI secara keseluruhan di wilayah Kota Yogyakarta pada tahun berkenaan. | D68: % | E68: 100
A69: Meningkatnya persentase SMP terakreditasi minimal B | B69: Dinas Pendidikan, Pemuda, dan Olahraga Kota Yogyakarta | C69: Perbandingan Jumlah SMP/MTs dengan akreditasi minimal B dengan Jumlah SMP/MTs secara keseluruhan di wilayah Kota Yogyakarta pada tahun berkenaan. | D69: % | E69: 94.92
A70: Jumlah Peserta Didik
A71: Jumlah Siswa Taman Kanak- Kanak (TK) | B71: Dinas Pendidikan, Pemuda, dan Olahraga Kota Yogyakarta | C71: Jumlah peserta didik yang terdaftar pada jenjang pendidikan Taman Kanak-Kanak (TK) Negeri di wilayah Kota Yogyakarta pada tahun berkenaan. | D71: Orang | E71: 9028
A72: Jumlah Siswa TK Negeri | B72: Dinas Pendidikan, Pemuda, dan Olahraga Kota Yogyakarta | C72: Jumlah peserta didik yang terdaftar pada jenjang pendidikan Taman Kanak-Kanak (TK) Negeri di wilayah Kota Yogyakarta pada tahun berkenaan. | D72: Orang | E72: 685
A73: Jumlah Siswa TK Swasta | B73: Dinas Pendidikan, Pemuda, dan Olahraga Kota Yogyakarta | C73: Jumlah peserta didik yang terdaftar pada jenjang pendidikan Taman Kanak-Kanak (TK) Negeri di wilayah Kota Yogyakarta pada tahun berkenaan. | D73: Orang | E73: 8343
A74: Jumlah Siswa Sekolah Dasar (SD) | B74: Dinas Pendidikan, Pemuda, dan Olahraga Kota Yogyakarta | C74: Jumlah siswa pada jenjang sekolah dasar yang dikelola oleh pemerintah dan pihak swasta | D74: Orang | E74: 37301
A75: Jumlah Siswa SD Negeri | B75: Dinas Pendidikan, Pemuda, dan Olahraga Kota Yogyakarta | C75: Jumlah siswa pada jenjang sekolah dasar yang dikelola oleh pemerintah dan pihak swasta | D75: Orang | E75: 18272
A76: Jumlah Siswa SD Swasta | B76: Dinas Pendidikan, Pemuda, dan Olahraga Kota Yogyakarta | C76: Jumlah siswa pada jenjang sekolah dasar yang dikelola oleh pemerintah dan pihak swasta | D76: Orang | E76: 19029
A77: Jumlah Siswa Sekolah Lanjutan Tingkat Pertama (SMP) | B77: Dinas Pendidikan, Pemuda, dan Olahraga Kota Yogyakarta | C77: Jumlah siswa pada jenjang sekolah menengah pertama yang dikelola oleh pemerintah dan pihak swasta | D77: Orang | E77: 20400
A78: Jumlah Siswa SMP Negeri | B78: Dinas Pendidikan, Pemuda, dan Olahraga Kota Yogyakarta | C78: Jumlah Siswa pada Sekolah Menengah Pertama Negeri | D78: Orang | E78: 10545
A79: Jumlah Siswa SMP Swasta | B79: Dinas Pendidikan, Pemuda, dan Olahraga Kota Yogyakarta | C79: Jumlah Sekolah Menengah Pertama Swasta | D79: Orang | E79: 9855
A80: Jumlah Siswa Miskin
A81: Jumlah Siswa Miskin Jenjang SD | B81: Dinas Pendidikan, Pemuda, dan Olahraga Kota Yogyakarta | C81: Jumlah siswa SD/MI/sederajat, yang orang tuanya kurang mampu membiayai pendidikan anaknya, orang tua miskin atau rumah tangga miskin sesuai dengan kriteria di wilayah Kota Yogyakarta pada tahun berkenaan. | D81: Orang | E81: 8797
A82: Jumlah Siswa Miskin Jenjang SMP | B82: Dinas Pendidikan, Pemuda, dan Olahraga Kota Yogyakarta | C82: Jumlah siswa SMP/MTs/sederajat, yang orang tuanya kurang mampu membiayai pendidikan anaknya, orang tua miskin atau rumah tangga miskin sesuai dengan kriteria di wilayah Kota Yogyakarta pada tahun berkenaan. | D82: Orang | E82: 4950
A83: Jumlah Guru
A84: Jumlah Guru Taman Kanak- Kanak (TK) | B84: Dinas Pendidikan, Pemuda, dan Olahraga Kota Yogyakarta | C84: Jumlah tenaga pengajar pada jenjang Taman Kanak-Kanak (TK) di wilayah Kota Yogyakarta pada tahun berkenaan. | D84: Orang | E84: 681
A85: Jumlah Guru Taman Kanak- Kanak (TK) Negeri | B85: Dinas Pendidikan, Pemuda, dan Olahraga Kota Yogyakarta | C85: Jumlah tenaga pengajar pada jenjang Taman Kanak-Kanak (TK) di wilayah Kota Yogyakarta pada tahun berkenaan. | D85: Orang | E85: 47
A86: Jumlah Guru Taman Kanak- Kanak (TK) Swasta | B86: Dinas Pendidikan, Pemuda, dan Olahraga Kota Yogyakarta | C86: Jumlah tenaga pengajar pada jenjang Taman Kanak-Kanak (TK) di wilayah Kota Yogyakarta pada tahun berkenaan. | D86: Orang | E86: 634
A87: Jumlah Guru Sekolah Dasar (SD) | B87: Dinas Pendidikan, Pemuda, dan Olahraga Kota Yogyakarta | C87: Jumlah tenaga pengajar pada jenjang SD/MI Sederajat di wilayah Kota Yogyakarta pada tahun berkenaan. | D87: Orang | E87: 2427
A88: Jumlah Guru Sekolah Dasar (SD) Negeri | B88: Dinas Pendidikan, Pemuda, dan Olahraga Kota Yogyakarta | C88: Jumlah tenaga pengajar pada jenjang SD/MI Sederajat di wilayah Kota Yogyakarta pada tahun berkenaan. | D88: Orang | E88: 2363
A89: Jumlah Guru Sekolah Dasar (SD) Swasta | B89: Dinas Pendidikan, Pemuda, dan Olahraga Kota Yogyakarta | C89: Jumlah tenaga pengajar pada jenjang SD/MI Sederajat di wilayah Kota Yogyakarta pada tahun berkenaan. | D89: Orang | E89: 1186
A90: Pemenuhan kebutuhan guru SD | B90: Dinas Pendidikan, Pemuda, dan Olahraga Kota Yogyakarta | C90: Perbandingan antara Jumlah guru pada jenjang SD/MI/sederajat yang telah tersertifikasi (kualifikasi) dengan Jumlah guru yang tersedia pada jenjang SD/MI/sederajat yang ada di wilayah Kota Yogyakarta pada tahun berkenaan. | D90: % | E90: 1177
A91: Pemenuhan Kualifikasi guru SD | B91: Dinas Pendidikan, Pemuda, dan Olahraga Kota Yogyakarta | C91: Perbandingan antara Jumlah guru pada jenjang SD/MI/sederajat yang telah tersertifikasi (kualifikasi) dengan Jumlah guru yang tersedia pada jenjang SD/MI/sederajat yang ada di wilayah Kota Yogyakarta pada tahun berkenaan. | D91: % | E91: 94.63
A92: Jumlah Guru SD Tersertifikasi | B92: Dinas Pendidikan, Pemuda, dan Olahraga Kota Yogyakarta | C92: Perbandingan antara Jumlah guru pada jenjang SD/MI/sederajat yang telah tersertifikasi (kualifikasi) dengan Jumlah guru yang tersedia pada jenjang SD/MI/sederajat yang ada di wilayah Kota Yogyakarta pada tahun berkenaan. | D92: Orang | E92: 1390
A93: Jumlah Guru Sekolah Lanjutan Tingkat Pertama (SMP) | B93: Dinas Pendidikan, Pemuda, dan Olahraga Kota Yogyakarta | C93: Jumlah tenaga pengajar pada jenjang SMP/MTS/sederajat Negeri di wilayah Kota Yogyakarta pada tahun berkenaan. | D93: Orang | E93: 1650
A94: Jumlah Guru Sekolah Lanjutan Tingkat Pertama (SMP) Negeri | B94: Dinas Pendidikan, Pemuda, dan Olahraga Kota Yogyakarta | C94: Jumlah tenaga pengajar pada jenjang SMP/MTS/sederajat Negeri di wilayah Kota Yogyakarta pada tahun berkenaan. | D94: Orang | E94: 653
A95: Jumlah Guru Sekolah Lanjutan Tingkat Pertama (SMP) Swasta | B95: Dinas Pendidikan, Pemuda, dan Olahraga Kota Yogyakarta | C95: Jumlah tenaga pengajar pada jenjang SMP/MTS/sederajat Negeri di wilayah Kota Yogyakarta pada tahun berkenaan. | D95: Orang | E95: 737
A96: Pemenuhan Jumlah guru SMP yang diperlukan | B96: Dinas Pendidikan, Pemuda, dan Olahraga Kota Yogyakarta | C96: Jumlah tenaga pengajar pada jenjang SMP/MTS/sederajat Negeri di wilayah Kota Yogyakarta pada tahun berkenaan. | D96: % | E96: n/a
A97: Kualifikasi guru SMP yang sesuai kompetensi yang ditetapkan secara nasional | B97: Dinas Pendidikan, Pemuda, dan Olahraga Kota Yogyakarta | C97: Jumlah tenaga pengajar pada jenjang SMP/MTS/sederajat Negeri di wilayah Kota Yogyakarta pada tahun berkenaan. | D97: % | E97: 93.74
A98: Jumlah Guru SMP Tersertifikasi | B98: Dinas Pendidikan, Pemuda, dan Olahraga Kota Yogyakarta | C98: Jumlah tenaga pengajar pada jenjang SMP/MTS/sederajat Negeri di wilayah Kota Yogyakarta pada tahun berkenaan. | D98: Orang | E98: 737
A99: Persentase guru sesuai kualifikasi | B99: Dinas Pendidikan, Pemuda, dan Olahraga Kota Yogyakarta | C99: Jumlah tenaga pengajar pada jenjang SMP/MTS/sederajat Negeri di wilayah Kota Yogyakarta pada tahun berkenaan. | D99: % | E99: n/a
A100: Jumlah guru yang sesuai kualifikasi | B100: Dinas Pendidikan, Pemuda, dan Olahraga Kota Yogyakarta | C100: Jumlah tenaga pengajar pada jenjang SMP/MTS/sederajat Negeri di wilayah Kota Yogyakarta pada tahun berkenaan. | D100: Orang | E100: 0.9374
A101: Jumlah Pendidik LKP | B101: Dinas Pendidikan, Pemuda, dan Olahraga Kota Yogyakarta | C101: Jumlah tenaga pengajar pada jenjang SMP/MTS/sederajat Negeri di wilayah Kota Yogyakarta pada tahun berkenaan. | D101: Orang | E101: 210
A102: Jumlah Ruang Kelas
A103: Jumlah Ruang Kelas TK dan Sejenisnya | B103: Dinas Pendidikan, Pemuda, dan Olahraga Kota Yogyakarta | C103: Jumlah tenaga pengajar pada jenjang SMP/MTS/sederajat Negeri di wilayah Kota Yogyakarta pada tahun berkenaan. | D103: Buah | E103: 3303
A104: Persentase Ruang Kelas SD/MI Kondisi Baik | B104: Dinas Pendidikan, Pemuda, dan Olahraga Kota Yogyakarta | C104: Proporsi ruang kelas yang layak digunakan (tidak rusak) pada satuan pendidikan jenjang Sekolah Dasar (SD) dan Madrasah Ibtidaiyah (MI) dibandingkan dengan total seluruh ruang kelas yang ada pada jenjang tersebut dalam satu wilayah dan tahun tertentu | D104: Buah | E104: 1
A105: Jumlah Seluruh Kelas SD/MI | B105: Dinas Pendidikan, Pemuda, dan Olahraga Kota Yogyakarta | C105: Jumlah keseluruhan ruang kelas yang digunakan untuk kegiatan belajar-mengajar di satuan pendidikan jenjang Sekolah Dasar (SD) dan Madrasah Ibtidaiyah (MI), baik negeri maupun swasta, dalam suatu wilayah pada tahun tertentu | D105: Buah | E105: 1792
A106: Jumlah Kelas SD/MI Kondisi Baik | B106: Dinas Pendidikan, Pemuda, dan Olahraga Kota Yogyakarta | C106: Jumlah ruang kelas dengan kondisi baik pada Sekolah Dasar | D106: Buah | E106: 1792
A107: Persentase Ruang Kelas SMP/MTs Kondisi Baik | B107: Dinas Pendidikan, Pemuda, dan Olahraga Kota Yogyakarta | C107: Proporsi ruang kelas yang layak digunakan (tidak rusak) pada satuan pendidikan jenjang Sekolah Menengah Pertama (SMP) dan Madrasah Tsanawiyah (MTs) dibandingkan dengan total seluruh ruang kelas yang ada pada jenjang tersebut dalam satu wilayah dan tahun tertentu | D107: % | E107: 100
A108: Jumlah Seluruh Kelas SMP/MTs | B108: Dinas Pendidikan, Pemuda, dan Olahraga Kota Yogyakarta | C108: Jumlah keseluruhan ruang kelas yang digunakan untuk kegiatan belajar-mengajar di satuan pendidikan jenjang Sekolah Menengah Pertama (SMP) dan Madrasah Tsanawiyah (MTs), baik negeri maupun swasta, dalam suatu wilayah pada tahun tertentu | D108: Buah | E108: 912
A109: Jumlah Kelas SMP/MTs Kondisi Baik | B109: Dinas Pendidikan, Pemuda, dan Olahraga Kota Yogyakarta | C109: Jumlah ruang kelas dengan kondisi baik pada Sekolah Menengah Pertama | D109: Buah | E109: 912
A110: Kualifikasi Guru
...
