Workbook

Sheet PRIORITAS
A1: No | B1: Kode | C1: Sumber Referensi | D1: Kode Indikator | E1: Nama Indikator | F1: Nama Data | G1: Jenis Data | H1: Produsen Data | I1: Klasifikasi Data Sesuai Resiko | J1: Definisi | K1: Satuan | L1: Klasifikasi Penyajian | M1: Jadwal Pemutakhiran | N1: Kategori RAD | O1: Kode Standar Data | P1: Kode Metadata | Q1: Link Portal Daerah | R1: Link Portal SDI | S1: Kode Data Prioritas | T1: Data | U1: Bidang Urusan
A2: (1) | C2: (2) | D2: (3) | E2: (4) | F2: (5) | G2: (6) | H2: (7) | I2: (8) | J2: (9) | K2: (10) | L2: (11) | M2: (12) | N2: (13) | O2: (14) | P2: (15) | Q2: (16) | R2: (17) | S2: (18)
B3: 1.01 | F3: PENDIDIKAN
A4: 1 | B4: 1.01.003.002 | F4: Angka Partisipasi Kasar (APK) Jenjang SD | G4: Statistik | H4: Dinas Pendidikan, Pemuda, dan Olahraga Kota Yogyakarta | I4: Terbatas | J4: =VLOOKUP(F4,STATISTIK!$A:$D,5,FALSE) -> #REF! | K4: % | L4: =VLOOKUP(F4,STATISTIK!$A:$D,7,FALSE) -> #REF! | M4: Tahunan | N4: =VLOOKUP(F4,STATISTIK!$A:$D,9,FALSE) -> #REF! | O4: =VLOOKUP(F4,STATISTIK!$A:$D,10,FALSE) -> #REF! | Q4: =VLOOKUP(F4,STATISTIK!$A:$D,12,FALSE) -> #REF! | R4: =VLOOKUP(F4,STATISTIK!$A:$D,13,FALSE) -> #REF!
A5: 2 | B5: 1.01.003.003 | F5: Angka Partisipasi Kasar (APK) Jenjang SMP | G5: Statistik | H5: Dinas Pendidikan, Pemuda, dan Olahraga Kota Yogyakarta | I5: Terbatas | J5: =VLOOKUP(F5,STATISTIK!$A:$D,5,FALSE) -> #REF! | K5: % | L5: =VLOOKUP(F5,STATISTIK!$A:$D,7,FALSE) -> #REF! | M5: Tahunan | N5: =VLOOKUP(F5,STATISTIK!$A:$D,9,FALSE) -> #REF! | O5: =VLOOKUP(F5,STATISTIK!$A:$D,10,FALSE) -> #REF! | Q5: =VLOOKUP(F5,STATISTIK!$A:$D,12,FALSE) -> #REF! | R5: =VLOOKUP(F5,STATISTIK!$A:$D,13,FALSE) -> #REF!
A6: 3 | B6: 1.01.004.001 | F6: Angka Partisipasi Murni (APM) Jenjang SD | G6: Statistik | H6: Dinas Pendidikan, Pemuda, dan Olahraga Kota Yogyakarta | I6: Terbatas | J6: =VLOOKUP(F6,STATISTIK!$A:$D,5,FALSE) -> #REF! | K6: % | L6: =VLOOKUP(F6,STATISTIK!$A:$D,7,FALSE) -> #REF! | M6: Tahunan | N6: =VLOOKUP(F6,STATISTIK!$A:$D,9,FALSE) -> #REF! | O6: =VLOOKUP(F6,STATISTIK!$A:$D,10,FALSE) -> #REF! | Q6: =VLOOKUP(F6,STATISTIK!$A:$D,12,FALSE) -> #REF! | R6: =VLOOKUP(F6,STATISTIK!$A:$D,13,FALSE) -> #REF!
A7: 4 | B7: 1.01.004.002 | F7: Angka Partisipasi Murni (APM) Jenjang SMP | G7: Statistik | H7: Dinas Pendidikan, Pemuda, dan Olahraga Kota Yogyakarta | I7: Terbatas | J7: =VLOOKUP(F7,STATISTIK!$A:$D,5,FALSE) -> #REF! | K7: % | L7: =VLOOKUP(F7,STATISTIK!$A:$D,7,FALSE) -> #REF! | M7: Tahunan | N7: =VLOOKUP(F7,STATISTIK!$A:$D,9,FALSE) -> #REF! | O7: =VLOOKUP(F7,STATISTIK!$A:$D,10,FALSE) -> #REF! | Q7: =VLOOKUP(F7,STATISTIK!$A:$D,12,FALSE) -> #REF! | R7: =VLOOKUP(F7,STATISTIK!$A:$D,13,FALSE) -> #REF!
A8: 5 | B8: 1.01.008.005 | F8: Persentase Sekolah Dasar yang Terakreditasi | G8: Statistik | H8: Dinas Pendidikan, Pemuda, dan Olahraga Kota Yogyakarta | I8: Terbatas | J8: =VLOOKUP(F8,STATISTIK!$A:$D,5,FALSE) -> #REF! | K8: % | L8: =VLOOKUP(F8,STATISTIK!$A:$D,7,FALSE) -> #REF! | M8: Tahunan | N8: =VLOOKUP(F8,STATISTIK!$A:$D,9,FALSE) -> #REF! | O8: =VLOOKUP(F8,STATISTIK!$A:$D,10,FALSE) -> #REF! | Q8: =VLOOKUP(F8,STATISTIK!$A:$D,12,FALSE) -> #REF! | R8: =VLOOKUP(F8,STATISTIK!$A:$D,13,FALSE) -> #REF!
A9: 6 | B9: 1.01.008.006 | F9: Persentase Sekolah Menengah Pertama yang Terakreditasi | G9: Statistik | H9: Dinas Pendidikan, Pemuda, dan Olahraga Kota Yogyakarta | I9: Terbatas | J9: =VLOOKUP(F9,STATISTIK!$A:$D,5,FALSE) -> #REF! | K9: % | L9: =VLOOKUP(F9,STATISTIK!$A:$D,7,FALSE) -> #REF! | M9: Tahunan | N9: =VLOOKUP(F9,STATISTIK!$A:$D,9,FALSE) -> #REF! | O9: =VLOOKUP(F9,STATISTIK!$A:$D,10,FALSE) -> #REF! | Q9: =VLOOKUP(F9,STATISTIK!$A:$D,12,FALSE) -> #REF! | R9: =VLOOKUP(F9,STATISTIK!$A:$D,13,FALSE) -> #REF!
A10: 7 | B10: 1.01.011.004 | F10: Persentase guru sesuai kualifikasi | G10: Statistik | H10: Dinas Pendidikan, Pemuda, dan Olahraga Kota Yogyakarta | I10: Terbatas | J10: =VLOOKUP(F10,STATISTIK!$A:$D,5,FALSE) -> #REF! | K10: % | L10: =VLOOKUP(F10,STATISTIK!$A:$D,7,FALSE) -> #REF! | M10: Tahunan | N10: =VLOOKUP(F10,STATISTIK!$A:$D,9,FALSE) -> #REF! | O10: =VLOOKUP(F10,STATISTIK!$A:$D,10,FALSE) -> #REF! | Q10: =VLOOKUP(F10,STATISTIK!$A:$D,12,FALSE) -> #REF! | R10: =VLOOKUP(F10,STATISTIK!$A:$D,13,FALSE) -> #REF!
A11: 8 | B11: 1.01.011.004.01 | F11: Jumlah guru yang sesuai kualifikasi | G11: Statistik | H11: Dinas Pendidikan, Pemuda, dan Olahraga Kota Yogyakarta | I11: Terbatas | J11: =VLOOKUP(F11,STATISTIK!$A:$D,5,FALSE) -> #REF! | K11: Orang | L11: =VLOOKUP(F11,STATISTIK!$A:$D,7,FALSE) -> #REF! | M11: Tahunan | N11: =VLOOKUP(F11,STATISTIK!$A:$D,9,FALSE) -> #REF! | O11: =VLOOKUP(F11,STATISTIK!$A:$D,10,FALSE) -> #REF! | Q11: =VLOOKUP(F11,STATISTIK!$A:$D,12,FALSE) -> #REF! | R11: =VLOOKUP(F11,STATISTIK!$A:$D,13,FALSE) -> #REF!
A12: 9 | B12: 1.01.021.002 | F12: Hasil Penilaian Mandiri Reformasi Birokrasi oleh Inspektorat | G12: Statistik | H12: Dinas Pendidikan, Pemuda, dan Olahraga Kota Yogyakarta | I12: Terbatas | J12: =VLOOKUP(F12,STATISTIK!$A:$D,5,FALSE) -> #REF! | K12: Nilai | L12: =VLOOKUP(F12,STATISTIK!$A:$D,7,FALSE) -> #REF! | M12: Tahunan | N12: =VLOOKUP(F12,STATISTIK!$A:$D,9,FALSE) -> #REF! | O12: =VLOOKUP(F12,STATISTIK!$A:$D,10,FALSE) -> #REF! | Q12: =VLOOKUP(F12,STATISTIK!$A:$D,12,FALSE) -> #REF! | R12: =VLOOKUP(F12,STATISTIK!$A:$D,13,FALSE) -> #REF!
A13: 10 | B13: 1.01.021.003 | F13: Hasil penilaian SAKIP oleh Inspektorat untuk Dinas Pendidikan Pemuda dan Olahraga | G13: Statistik | H13: Dinas Pendidikan, Pemuda, dan Olahraga Kota Yogyakarta | I13: Terbatas | J13: =VLOOKUP(F13,STATISTIK!$A:$D,5,FALSE) -> #REF! | K13: Nilai | L13: =VLOOKUP(F13,STATISTIK!$A:$D,7,FALSE) -> #REF! | M13: Tahunan | N13: =VLOOKUP(F13,STATISTIK!$A:$D,9,FALSE) -> #REF! | O13: =VLOOKUP(F13,STATISTIK!$A:$D,10,FALSE) -> #REF! | Q13: =VLOOKUP(F13,STATISTIK!$A:$D,12,FALSE) -> #REF! | R13: =VLOOKUP(F13,STATISTIK!$A:$D,13,FALSE) -> #REF!
A14: 11 | B14: 1.01.021.001 | F14: Rata-rata kemampuan literasi siswa berdasarkan hasil Asesmen Nasional SD | G14: Statistik | H14: Dinas Pendidikan, Pemuda, dan Olahraga Kota Yogyakarta | I14: Terbatas | J14: =VLOOKUP(F14,STATISTIK!$A:$D,5,FALSE) -> #REF! | K14: Nilai | L14: =VLOOKUP(F14,STATISTIK!$A:$D,7,FALSE) -> #REF! | M14: Tahunan | N14: =VLOOKUP(F14,STATISTIK!$A:$D,9,FALSE) -> #REF! | O14: =VLOOKUP(F14,STATISTIK!$A:$D,10,FALSE) -> #REF! | Q14: =VLOOKUP(F14,STATISTIK!$A:$D,12,FALSE) -> #REF! | R14: =VLOOKUP(F14,STATISTIK!$A:$D,13,FALSE) -> #REF!
A15: 12 | B15: 1.01.021.002 | F15: Rata-rata kemampuan numerasi siswa berdasarkan hasil Asesmen Nasional SD | G15: Statistik | H15: Dinas Pendidikan, Pemuda, dan Olahraga Kota Yogyakarta | I15: Terbatas | J15: =VLOOKUP(F15,STATISTIK!$A:$D,5,FALSE) -> #REF! | K15: Nilai | L15: =VLOOKUP(F15,STATISTIK!$A:$D,7,FALSE) -> #REF! | M15: Tahunan | N15: =VLOOKUP(F15,STATISTIK!$A:$D,9,FALSE) -> #REF! | O15: =VLOOKUP(F15,STATISTIK!$A:$D,10,FALSE) -> #REF! | Q15: =VLOOKUP(F15,STATISTIK!$A:$D,12,FALSE) -> #REF! | R15: =VLOOKUP(F15,STATISTIK!$A:$D,13,FALSE) -> #REF!
... A35: 32 | B35: 1.01.022.007.02 | F35: jumlah warga belajar PKBM dan SKB di akhir jenjang | G35: Statistik | H35: Dinas Pendidikan, Pemuda, dan Olahraga Kota Yogyakarta | I35: Terbatas | J35: =VLOOKUP(F35,STATISTIK!$A:$D,5,FALSE) -> #REF! | K35: Orang | L35: =VLOOKUP(F35,STATISTIK!$A:$D,7,FALSE) -> #REF! | M35: Tahunan | N35: =VLOOKUP(F35,STATISTIK!$A:$D,9,FALSE) -> #REF! | O35: =VLOOKUP(F35,STATISTIK!$A:$D,10,FALSE) -> #REF! | Q35: =VLOOKUP(F35,STATISTIK!$A:$D,12,FALSE) -> #REF! | R35: =VLOOKUP(F35,STATISTIK!$A:$D,13,FALSE) -> #REF!
B36: 1.02 | F36: KESEHATAN | G36: Statistik | I36: Terbatas | J36: =VLOOKUP(F36,STATISTIK!$A:$D,5,FALSE) -> #REF! | L36: =VLOOKUP(F36,STATISTIK!$A:$D,7,FALSE) -> #REF! | N36: =VLOOKUP(F36,STATISTIK!$A:$D,9,FALSE) -> #REF! | O36: =VLOOKUP(F36,STATISTIK!$A:$D,10,FALSE) -> #REF! | Q36: =VLOOKUP(F36,STATISTIK!$A:$D,12,FALSE) -> #REF! | R36: =VLOOKUP(F36,STATISTIK!$A:$D,13,FALSE) -> #REF!
A37: 33 | B37: 1.02.001.008 | F37: Persentase Rumah Sakit dan Fasilitas Pelayanan Kesehatan Sesuai Standar | G37: Statistik | H37: Dinas Kesehatan Kota Yogyakarta | I37: Terbatas | J37: =VLOOKUP(F37,STATISTIK!$A:$D,5,FALSE) -> #REF! | K37: % | L37: =VLOOKUP(F37,STATISTIK!$A:$D,7,FALSE) -> #REF! | M37: Tahunan | N37: =VLOOKUP(F37,STATISTIK!$A:$D,9,FALSE) -> #REF! | O37: =VLOOKUP(F37,STATISTIK!$A:$D,10,FALSE) -> #REF! | Q37: =VLOOKUP(F37,STATISTIK!$A:$D,12,FALSE) -> #REF! | R37: =VLOOKUP(F37,STATISTIK!$A:$D,13,FALSE) -> #REF!
A38: 34 | B38: 1.02.001.008.01 | F38: Jumlah Rumah Sakit, Puskesmas, dan Klinik Pratama yang memenuhi persyaratan standar usaha di Kota Yogyakarta | G38: Statistik | H38: Dinas Kesehatan Kota Yogyakarta | I38: Terbatas | J38: =VLOOKUP(F38,STATISTIK!$A:$D,5,FALSE) -> #REF! | K38: Unit | L38: =VLOOKUP(F38,STATISTIK!$A:$D,7,FALSE) -> #REF! | M38: Tahunan | N38: =VLOOKUP(F38,STATISTIK!$A:$D,9,FALSE) -> #REF! | O38: =VLOOKUP(F38,STATISTIK!$A:$D,10,FALSE) -> #REF! | Q38: =VLOOKUP(F38,STATISTIK!$A:$D,12,FALSE) -> #REF! | R38: =VLOOKUP(F38,STATISTIK!$A:$D,13,FALSE) -> #REF!
A39: 35 | B39: 1.02.001.008.02 | F39: Jumlah Rumah Sakit, Puskesmas, dan Klinik Pratama di Kota Yogyakarta | G39: Statistik | H39: Dinas Kesehatan Kota Yogyakarta | I39: Terbatas | J39: =VLOOKUP(F39,STATISTIK!$A:$D,5,FALSE) -> #REF! | K39: Unit | L39: =VLOOKUP(F39,STATISTIK!$A:$D,7,FALSE) -> #REF! | M39: Tahunan | N39: =VLOOKUP(F39,STATISTIK!$A:$D,9,FALSE) -> #REF! | O39: =VLOOKUP(F39,STATISTIK!$A:$D,10,FALSE) -> #REF! | Q39: =VLOOKUP(F39,STATISTIK!$A:$D,12,FALSE) -> #REF! | R39: =VLOOKUP(F39,STATISTIK!$A:$D,13,FALSE) -> #REF!
A40: 36 | B40: 1.02.001.009 | F40: Persentase Rumah Sakit dan Puskesmas yang Terakreditasi | G40: Statistik | H40: Dinas Kesehatan Kota Yogyakarta | I40: Terbatas | J40: =VLOOKUP(F40,STATISTIK!$A:$D,5,FALSE) -> #REF! | K40: % | L40: =VLOOKUP(F40,STATISTIK!$A:$D,7,FALSE) -> #REF! | M40: Tahunan | N40: =VLOOKUP(F40,STATISTIK!$A:$D,9,FALSE) -> #REF! | O40: =VLOOKUP(F40,STATISTIK!$A:$D,10,FALSE) -> #REF! | Q40: =VLOOKUP(F40,STATISTIK!$A:$D,12,FALSE) -> #REF! | R40: =VLOOKUP(F40,STATISTIK!$A:$D,13,FALSE) -> #REF!
A41: 37 | B41: 1.02.001.009.01 | F41: Jumlah Puskesmas yang sudah dilakukan survei re-akreditasi | G41: Statistik | H41: Dinas Kesehatan Kota Yogyakarta | I41: Terbatas | J41: =VLOOKUP(F41,STATISTIK!$A:$D,5,FALSE) -> #REF! | K41: Puskesmas | L41: =VLOOKUP(F41,STATISTIK!$A:$D,7,FALSE) -> #REF! | M41: Tahunan | N41: =VLOOKUP(F41,STATISTIK!$A:$D,9,FALSE) -> #REF! | O41: =VLOOKUP(F41,STATISTIK!$A:$D,10,FALSE) -> #REF! | Q41: =VLOOKUP(F41,STATISTIK!$A:$D,12,FALSE) -> #REF! | R41: =VLOOKUP(F41,STATISTIK!$A:$D,13,FALSE) -> #REF!
A42: 38 | B42: 1.02.001.009.02 | F42: Jumlah Rumah Sakit terakreditasi Paripurna dan Utama | G42: Statistik | H42: Dinas Kesehatan Kota Yogyakarta | I42: Terbatas | J42: =VLOOKUP(F42,STATISTIK!$A:$D,5,FALSE) -> #REF! | K42: Rumah Sakit | L42: =VLOOKUP(F42,STATISTIK!$A:$D,7,FALSE) -> #REF! | M42: Tahunan | N42: =VLOOKUP(F42,STATISTIK!$A:$D,9,FALSE) -> #REF! | O42: =VLOOKUP(F42,STATISTIK!$A:$D,10,FALSE) -> #REF! | Q42: =VLOOKUP(F42,STATISTIK!$A:$D,12,FALSE) -> #REF! | R42: =VLOOKUP(F42,STATISTIK!$A:$D,13,FALSE) -> #REF!
A43: 39 | B43: 1.02.001.010 | F43: Persentase Sarana, Prasarana dan Peralatan Kesehatan penunjang medis dan non medis yang terpelihara dan dapat dioperasionalkan secara optimal | G43: Statistik | H43: Dinas Kesehatan Kota Yogyakarta | I43: Terbatas | J43: =VLOOKUP(F43,STATISTIK!$A:$D,5,FALSE) -> #REF! | K43: % | L43: =VLOOKUP(F43,STATISTIK!$A:$D,7,FALSE) -> #REF! | M43: Tahunan | N43: =VLOOKUP(F43,STATISTIK!$A:$D,9,FALSE) -> #REF! | O43: =VLOOKUP(F43,STATISTIK!$A:$D,10,FALSE) -> #REF! | Q43: =VLOOKUP(F43,STATISTIK!$A:$D,12,FALSE) -> #REF! | R43: =VLOOKUP(F43,STATISTIK!$A:$D,13,FALSE) -> #REF!
A44: 40 | B44: 1.02.001.010.01 | F44: Jumlah Sarana, prasarana dan peralatan kesehatan yang terpelihara dan dapat dioperasionalkan secara optimal | G44: Statistik | H44: Dinas Kesehatan Kota Yogyakarta | I44: Terbatas | J44: =VLOOKUP(F44,STATISTIK!$A:$D,5,FALSE) -> #REF! | K44: Unit | L44: =VLOOKUP(F44,STATISTIK!$A:$D,7,FALSE) -> #REF! | M44: Tahunan | N44: =VLOOKUP(F44,STATISTIK!$A:$D,9,FALSE) -> #REF! | O44: =VLOOKUP(F44,STATISTIK!$A:$D,10,FALSE) -> #REF! | Q44: =VLOOKUP(F44,STATISTIK!$A:$D,12,FALSE) -> #REF! | R44: =VLOOKUP(F44,STATISTIK!$A:$D,13,FALSE) -> #REF!
A45: 41 | B45: 1.02.001.010.02 | F45: Jumlah Sarana, prasarana dan peralatan kesehatan yang dikelola | G45: Statistik | H45: Dinas Kesehatan Kota Yogyakarta | I45: Terbatas | J45: =VLOOKUP(F45,STATISTIK!$A:$D,5,FALSE) -> #REF! | K45: Unit | L45: =VLOOKUP(F45,STATISTIK!$A:$D,7,FALSE) -> #REF! | M45: Tahunan | N45: =VLOOKUP(F45,STATISTIK!$A:$D,9,FALSE) -> #REF! | O45: =VLOOKUP(F45,STATISTIK!$A:$D,10,FALSE) -> #REF! | Q45: =VLOOKUP(F45,STATISTIK!$A:$D,12,FALSE) -> #REF! | R45: =VLOOKUP(F45,STATISTIK!$A:$D,13,FALSE) -> #REF!
A46: 42 | B46: 1.02.001.019 | F46: Skor Akreditasi RS | G46: Statistik | H46: Dinas Kesehatan Kota Yogyakarta | I46: Terbatas | J46: =VLOOKUP(F46,STATISTIK!$A:$D,5,FALSE) -> #REF! | K46: % | L46: =VLOOKUP(F46,STATISTIK!$A:$D,7,FALSE) -> #REF! | M46: Tahunan | N46: =VLOOKUP(F46,STATISTIK!$A:$D,9,FALSE) -> #REF! | O46: =VLOOKUP(F46,STATISTIK!$A:$D,10,FALSE) -> #REF! | Q46: =VLOOKUP(F46,STATISTIK!$A:$D,12,FALSE) -> #REF! | R46: =VLOOKUP(F46,STATISTIK!$A:$D,13,FALSE) -> #REF!
A47: 43 | B47: 1.02.001.020 | F47: Hasil Penilaian Mandiri Reformasi Birokrasi oleh Inspektorat | G47: Statistik | H47: Dinas Kesehatan Kota Yogyakarta | I47: Terbatas | J47: =VLOOKUP(F47,STATISTIK!$A:$D,5,FALSE) -> #REF! | K47: Nilai | L47: =VLOOKUP(F47,STATISTIK!$A:$D,7,FALSE) -> #REF! | M47: Tahunan | N47: =VLOOKUP(F47,STATISTIK!$A:$D,9,FALSE) -> #REF! | O47: =VLOOKUP(F47,STATISTIK!$A:$D,10,FALSE) -> #REF! | Q47: =VLOOKUP(F47,STATISTIK!$A:$D,12,FALSE) -> #REF! | R47: =VLOOKUP(F47,STATISTIK!$A:$D,13,FALSE) -> #REF!
A48: 44 | B48: 1.02.001.021 | F48: Indeks keluarga sehat di wilayah kerja Puskesmas | G48: Statistik | H48: Dinas Kesehatan Kota Yogyakarta | I48: Terbatas | J48: =VLOOKUP(F48,STATISTIK!$A:$D,5,FALSE) -> #REF! | K48: Indeks | L48: =VLOOKUP(F48,STATISTIK!$A:$D,7,FALSE) -> #REF! | M48: Tahunan | N48: =VLOOKUP(F48,STATISTIK!$A:$D,9,FALSE) -> #REF! | O48: =VLOOKUP(F48,STATISTIK!$A:$D,10,FALSE) -> #REF! | Q48: =VLOOKUP(F48,STATISTIK!$A:$D,12,FALSE) -> #REF! | R48: =VLOOKUP(F48,STATISTIK!$A:$D,13,FALSE) -> #REF!
... A152: 148 | B152: 1.02.016.012 | F152: Target pendapatan | G152: Statistik | H152: RSUD Kota Yogyakarta | I152: Terbatas | J152: =VLOOKUP(F152,STATISTIK!$A:$D,5,FALSE) -> #REF! | K152: Rp | L152: =VLOOKUP(F152,STATISTIK!$A:$D,7,FALSE) -> #REF! | M152: Tahunan | N152: =VLOOKUP(F152,STATISTIK!$A:$D,9,FALSE) -> #REF! | O152: =VLOOKUP(F152,STATISTIK!$A:$D,10,FALSE) -> #REF! | Q152: =VLOOKUP(F152,STATISTIK!$A:$D,12,FALSE) -> #REF! | R152: =VLOOKUP(F152,STATISTIK!$A:$D,13,FALSE) -> #REF!
B153: 1.03 | F153: PEKERJAAN UMUM DAN PENATAAN RUANG | G153: Statistik | I153: Terbatas | J153: =VLOOKUP(F153,STATISTIK!$A:$D,5,FALSE) -> #REF! | L153: =VLOOKUP(F153,STATISTIK!$A:$D,7,FALSE) -> #REF! | N153: =VLOOKUP(F153,STATISTIK!$A:$D,9,FALSE) -> #REF! | O153: =VLOOKUP(F153,STATISTIK!$A:$D,10,FALSE) -> #REF! | Q153: =VLOOKUP(F153,STATISTIK!$A:$D,12,FALSE) -> #REF! | R153: =VLOOKUP(F153,STATISTIK!$A:$D,13,FALSE) -> #REF!
A154: 149 | B154: 1.03.002.009 | F154: Persentase kualitas sarana dan prasarana jalan, jembatan dan bangunan pelengkap jalan | G154: Statistik | H154: Dinas Pekerjaan Umum, Perumahan dan Kawasan Permukiman | I154: Terbatas | J154: =VLOOKUP(F154,STATISTIK!$A:$D,5,FALSE) -> #REF! | K154: % | L154: =VLOOKUP(F154,STATISTIK!$A:$D,7,FALSE) -> #REF! | M154: Tahunan | N154: =VLOOKUP(F154,STATISTIK!$A:$D,9,FALSE) -> #REF! | O154: =VLOOKUP(F154,STATISTIK!$A:$D,10,FALSE) -> #REF! | Q154: =VLOOKUP(F154,STATISTIK!$A:$D,12,FALSE) -> #REF! | R154: =VLOOKUP(F154,STATISTIK!$A:$D,13,FALSE) -> #REF!
A155: 150 | B155: 1.03.002.010 | F155: Pelengkap jalan dalam kondisi mantap | G155: Statistik | H155: Dinas Pekerjaan Umum, Perumahan dan Kawasan Permukiman | I155: Terbatas | J155: =VLOOKUP(F155,STATISTIK!$A:$D,5,FALSE) -> #REF! | K155: Km | L155: =VLOOKUP(F155,STATISTIK!$A:$D,7,FALSE) -> #REF! | M155: Tahunan | N155: =VLOOKUP(F155,STATISTIK!$A:$D,9,FALSE) -> #REF! | O155: =VLOOKUP(F155,STATISTIK!$A:$D,10,FALSE) -> #REF! | Q155: =VLOOKUP(F155,STATISTIK!$A:$D,12,FALSE) -> #REF! | R155: =VLOOKUP(F155,STATISTIK!$A:$D,13,FALSE) -> #REF!
A156: 151 | B156: 1.03.002.011 | F156: Total panjang jalan kota | G156: Statistik | H156: Dinas Pekerjaan Umum, Perumahan dan Kawasan Permukiman | I156: Terbatas | J156: =VLOOKUP(F156,STATISTIK!$A:$D,5,FALSE) -> #REF! | K156: m | L156: =VLOOKUP(F156,STATISTIK!$A:$D,7,FALSE) -> #REF! | M156: Tahunan | N156: =VLOOKUP(F156,STATISTIK!$A:$D,9,FALSE) -> #REF! | O156: =VLOOKUP(F156,STATISTIK!$A:$D,10,FALSE) -> #REF! | Q156: =VLOOKUP(F156,STATISTIK!$A:$D,12,FALSE) -> #REF! | R156: =VLOOKUP(F156,STATISTIK!$A:$D,13,FALSE) -> #REF!
A157: 152 | B157: 1.03.002.012 | F157: Total panjang pelengkap jalan | G157: Statistik | H157: Dinas Pekerjaan Umum, Perumahan dan Kawasan Permukiman | I157: Terbatas | J157: =VLOOKUP(F157,STATISTIK!$A:$D,5,FALSE) -> #REF! | K157: m | L157: =VLOOKUP(F157,STATISTIK!$A:$D,7,FALSE) -> #REF! | M157: Tahunan | N157: =VLOOKUP(F157,STATISTIK!$A:$D,9,FALSE) -> #REF! | O157: =VLOOKUP(F157,STATISTIK!$A:$D,10,FALSE) -> #REF! | Q157: =VLOOKUP(F157,STATISTIK!$A:$D,12,FALSE) -> #REF! | R157: =VLOOKUP(F157,STATISTIK!$A:$D,13,FALSE) -> #REF!
A158: 153 | B158: 1.03.002.013 | F158: Panjang Jembatan | G158: Statistik | H158: Dinas Pekerjaan Umum, Perumahan dan Kawasan Permukiman | I158: Terbatas | J158: =VLOOKUP(F158,STATISTIK!$A:$D,5,FALSE) -> #REF! | K158: Km | L158: =VLOOKUP(F158,STATISTIK!$A:$D,7,FALSE) -> #REF! | M158: Tahunan | N158: =VLOOKUP(F158,STATISTIK!$A:$D,9,FALSE) -> #REF! | O158: =VLOOKUP(F158,STATISTIK!$A:$D,10,FALSE) -> #REF! | Q158: =VLOOKUP(F158,STATISTIK!$A:$D,12,FALSE) -> #REF! | R158: =VLOOKUP(F158,STATISTIK!$A:$D,13,FALSE) -> #REF!
A159: 154 | B159: 1.03.002.014 | F159: Jumlah Jembatan | G159: Statistik | H159: Dinas Pekerjaan Umum, Perumahan dan Kawasan Permukiman | I159: Terbatas | J159: =VLOOKUP(F159,STATISTIK!$A:$D,5,FALSE) -> #REF! | K159: Unit | L159: =VLOOKUP(F159,STATISTIK!$A:$D,7,FALSE) -> #REF! | M159: Tahunan | N159: =VLOOKUP(F159,STATISTIK!$A:$D,9,FALSE) -> #REF! | O159: =VLOOKUP(F159,STATISTIK!$A:$D,10,FALSE) -> #REF! | Q159: =VLOOKUP(F159,STATISTIK!$A:$D,12,FALSE) -> #REF! | R159: =VLOOKUP(F159,STATISTIK!$A:$D,13,FALSE) -> #REF!
A160: 155 | B160: 1.03.002.015 | F160: Jumlah Jembatan kondisi mantap | G160: Statistik | H160: Dinas Pekerjaan Umum, Perumahan dan Kawasan Permukiman | I160: Terbatas | J160: =VLOOKUP(F160,STATISTIK!$A:$D,5,FALSE) -> #REF! | K160: Km | L160: =VLOOKUP(F160,STATISTIK!$A:$D,7,FALSE) -> #REF! | M160: Tahunan | N160: =VLOOKUP(F160,STATISTIK!$A:$D,9,FALSE) -> #REF! | O160: =VLOOKUP(F160,STATISTIK!$A:$D,10,FALSE) -> #REF! | Q160: =VLOOKUP(F160,STATISTIK!$A:$D,12,FALSE) -> #REF! | R160: =VLOOKUP(F160,STATISTIK!$A:$D,13,FALSE) -> #REF!
A161: 156 | B161: 1.03.003.003 | F161: Panjang saluran drainase dalam kondisi baik yang dilengkapi Sumur Peresapan Air Hujan (SPAH) (meter) | G161: Statistik | H161: Dinas Pekerjaan Umum, Perumahan dan Kawasan Permukiman | I161: Terbatas | J161: =VLOOKUP(F161,STATISTIK!$A:$D,5,FALSE) -> #REF! | K161: m | L161: =VLOOKUP(F161,STATISTIK!$A:$D,7,FALSE) -> #REF! | M161: Tahunan | N161: =VLOOKUP(F161,STATISTIK!$A:$D,9,FALSE) -> #REF! | O161: =VLOOKUP(F161,STATISTIK!$A:$D,10,FALSE) -> #REF! | Q161: =VLOOKUP(F161,STATISTIK!$A:$D,12,FALSE) -> #REF! | R161: =VLOOKUP(F161,STATISTIK!$A:$D,13,FALSE) -> #REF!
A162: 157 | B162: 1.03.003.004 | F162: Total panjang saluran drainase (meter) | G162: Statistik | H162: Dinas Pekerjaan Umum, Perumahan dan Kawasan Permukiman | I162: Terbatas | J162: =VLOOKUP(F162,STATISTIK!$A:$D,5,FALSE) -> #REF! | K162: m | L162: =VLOOKUP(F162,STATISTIK!$A:$D,7,FALSE) -> #REF! | M162: Tahunan | N162: =VLOOKUP(F162,STATISTIK!$A:$D,9,FALSE) -> #REF! | O162: =VLOOKUP(F162,STATISTIK!$A:$D,10,FALSE) -> #REF! | Q162: =VLOOKUP(F162,STATISTIK!$A:$D,12,FALSE) -> #REF! | R162: =VLOOKUP(F162,STATISTIK!$A:$D,13,FALSE) -> #REF!
...

Sheet STATISTIK
A1: Nama Data | B1: Produsen Data | C1: Definisi | D1: Satuan | E1: Data 2024
A2: PENDIDIKAN
A3: Rasio Guru dengan Murid
A4: Rasio Jumlah Murid per Guru Jenjang SD | B4: Dinas Pendidikan, Pemuda, dan Olahraga Kota Yogyakarta | C4: Persentase antara Jumlah murid dengan Jumlah guru jenjang sekolah dasar di wilayah Kota Yogyakarta pada tahun berkenaan. | D4: - | E4: 15.77
A5: Rasio Jumlah Murid per Guru Jenjang SMP | B5: Dinas Pendidikan, Pemuda, dan Olahraga Kota Yogyakarta | C5: Persentase antara Jumlah murid dengan Jumlah guru jenjang Sekolah Menengah Pertama di wilayah Daerah Istimewa Yogyakarta. | D5: - | E5: 14.28
A6: Rasio guru per murid per kelas rata-rata Jenjang SD | B6: Dinas Pendidikan, Pemuda, dan Olahraga Kota Yogyakarta | C6: Persentase antara Jumlah murid dengan Jumlah guru jenjang sekolah dasar di wilayah Kota Yogyakarta pada tahun berkenaan. | D6: - | E6: 633.5
A7: Rasio guru per murid per kelas rata-rata Jenjang SMP | B7: Dinas Pendidikan, Pemuda, dan Olahraga Kota Yogyakarta | C7: Persentase antara Jumlah murid dengan Jumlah guru jenjang Sekolah Menengah Pertama di wilayah Daerah Istimewa Yogyakarta. | D7: - | E7: 681.37
A8: Rasio Ketersediaan Sekolah/Penduduk Usia Sekolah Pendidikan Dasar | B8: Dinas Pendidikan, Pemuda, dan Olahraga Kota Yogyakarta | C8: Rasio ketersediaan jumlah sekolah di jenjang pendidikan terhadap jumlah penduduk yang berada pada usia pendidikan dasar | D8: - | E8: 41.09
A9: Angka Partisipasi Sekolah (APS)
A10: Angka Partisipasi Sekolah (APS) SD/MI (usia 7 - 12 Tahun) | B10: Dinas Pendidikan, Pemuda, dan Olahraga Kota Yogyakarta | C10: Proporsi dari penduduk kelompok usia 7-12 tahun yang sedang bersekolah terhadap penduduk berusia 7-12 tahun di wilayah Kota Yogyakarta pada tahun berkenaan. | D10: % | E10: 99.99
A11: Angka Partisipasi Sekolah (APS) SMP/MTs (usia 13 - 15 Tahun) | B11: Dinas Pendidikan, Pemuda, dan Olahraga Kota Yogyakarta | C11: Proporsi dari penduduk kelompok usia 13-15 tahun yang sedang bersekolah terhadap penduduk berusia 13-15 tahun di wilayah Kota Yogyakarta pada tahun berkenaan. | D11: % | E11: 99.98
A12: Angka Partisipasi Kasar (APK)
A13: Angka Partisipasi Kasar (APK) PAUD | B13: Dinas Pendidikan, Pemuda, dan Olahraga Kota Yogyakarta | C13: Persentase Angka Partisipasi Kasar (APK) PAUD di wilayah Kota Yogyakarta pada tahun berkenaan. | D13: % | E13: 125.71
A14: Angka Partisipasi Kasar (APK) Jenjang SD | B14: Dinas Pendidikan, Pemuda, dan Olahraga Kota Yogyakarta | C14: Perbandingan antara Jumlah Siswa Sekolah Dasar Sederajat (SD/MI)/sederajat dengan Jumlah penduduk usia 7-12 tahun di wilayah Kota Yogyakarta pada tahun berkenaan. Data dari Dapodik, tidak termasuk data Aplikasi EMIS Kemenag. | D14: % | E14: 110.91
A15: Angka Partisipasi Kasar (APK) Jenjang SMP | B15: Dinas Pendidikan, Pemuda, dan Olahraga Kota Yogyakarta | C15: Perbandingan antara Jumlah murid SMP/MTS/sederajat dengan Jumlah penduduk usia 13-15 tahun di wilayah Kota Yogyakarta pada tahun berkenaan. | D15: % | E15: 123.74
A16: Angka Partisipasi Murni (APM)
A17: Angka Partisipasi Murni (APM) Jenjang SD | B17: Dinas Pendidikan, Pemuda, dan Olahraga Kota Yogyakarta | C17: Perbandingan antara Jumlah Siswa Sekolah Dasar Sederajat (SD/MI)/paket A usia 7-12 tahun dengan Jumlah penduduk usia 7-12 tahun di wilayah Kota Yogyakarta pada tahun berkenaan. Data dari Dapodik, tidak termasuk data Aplikasi EMIS Kemenag. | D17: % | E17: 104.67
A18: Angka Partisipasi Murni (APM) Jenjang SMP | B18: Dinas Pendidikan, Pemuda, dan Olahraga Kota Yogyakarta | C18: Perbandingan antara Jumlah murid SMP/MTS/Paket B usia 13-15 tahun dengan Jumlah penduduk usia 13-15 tahun di wilayah Kota Yogyakarta pada tahun berkenaan. | D18: % | E18: 108.1
A19: Angka Putus Sekolah Per Jenjang Pendidikan
A20: Angka Putus Sekolah Jenjang SD | B20: Dinas Pendidikan, Pemuda, dan Olahraga Kota Yogyakarta | C20: Proporsi anak menurut kelompok usia sekolah yang sudah tidak bersekolah lagi atau yang tidak menamatkan jenjang pendidikan SD/MI. Adapun kelompok umur yang dimaksud adalah kelompok umur 7-12 tahun, terhadap kelompok umur tersebut yang pernah/sedang bersekolah pada kelompok umur dimaksud di wilayah Kota Yogyakarta pada tahun berkenaan. | D20: % | E20: 0.003
A21: Jumlah anak putus sekolah SD | B21: Dinas Pendidikan, Pemuda, dan Olahraga Kota Yogyakarta | C21: Jumlah anak menurut kelompok usia 7-12 tahun yang sudah tidak bersekolah lagi atau yang tidak menamatkan jenjang pendidikan SD/MI. di wilayah Kota Yogyakarta pada tahun berkenaan. | D21: Orang | E21: 1
A22: Angka Putus Sekolah Jenjang SMP | B22: Dinas Pendidikan, Pemuda, dan Olahraga Kota Yogyakarta | C22: Jumlah anak menurut kelompok usia 13-15 tahun yang sudah tidak bersekolah lagi atau yang tidak menamatkan jenjang pendidikan SMP/MTS. di wilayah Kota Yogyakarta pada tahun berkenaan. | D22: % | E22: 0.02
A23: Jumlah anak putus sekolah SMP | B23: Dinas Pendidikan, Pemuda, dan Olahraga Kota Yogyakarta | C23: Jumlah anak menurut kelompok usia 13-15 tahun yang sudah tidak bersekolah lagi atau yang tidak menamatkan jenjang pendidikan SMP/MTS. di wilayah Kota Yogyakarta pada tahun berkenaan. | D23: Orang | E23: 5
A24: Angka Kelulusan Per Jenjang Pendidikan
A25: Angka Kelulusan SD | B25: Dinas Pendidikan, Pemuda, dan Olahraga Kota Yogyakarta | C25: Persentase peserta didik yang dinyatakan lulus dari jenjang Sekolah Dasar (SD) atau Madrasah Ibtidaiyah (MI) pada tahun tertentu dibandingkan dengan jumlah peserta didik yang mengikuti ujian atau asesmen akhir di jenjang tersebut pada tahun yang sama | D25: % | E25: 100
A26: Jumlah lulusan pada jenjang SD | B26: Dinas Pendidikan, Pemuda, dan Olahraga Kota Yogyakarta | C26: Persentase peserta didik yang dinyatakan lulus dari jenjang Sekolah Dasar (SD) atau Madrasah Ibtidaiyah (MI) pada tahun tertentu dibandingkan dengan jumlah peserta didik yang mengikuti ujian atau asesmen akhir di jenjang tersebut pada tahun yang sama | D26: Orang | E26: 6855
A27: Jumlah peserta didik kelas terakhir SD | B27: Dinas Pendidikan, Pemuda, dan Olahraga Kota Yogyakarta | C27: Jumlah total lulusan pada jenjang SD/MI tahun ajaran sebelumnya di wilayah Kota Yogyakarta pada tahun berkenaan. | D27: Orang | E27: 6640
A28: Persentase kelulusan ujian nasional SD | B28: Dinas Pendidikan, Pemuda, dan Olahraga Kota Yogyakarta | C28: persentase peserta didik yang berhasil lulus ujian nasional atau ujian akhir sekolah dari total peserta ujian | D28: % | E28: n/a
A29: Proporsi Murid Kelas 1 yang Berhasil Menamatkan Sekolah Dasar | B29: Dinas Pendidikan, Pemuda, dan Olahraga Kota Yogyakarta | C29: Persentase peserta didik yang memulai pendidikan di kelas 1 sekolah dasar (SD) pada tahun tertentu dan berhasil menamatkan pendidikan hingga kelas 6 SD, dibandingkan dengan seluruh peserta didik yang masuk kelas 1 pada tahun tersebut | D29: % | E29: 110
A30: Angka Kelulusan SMP | B30: Dinas Pendidikan, Pemuda, dan Olahraga Kota Yogyakarta | C30: Persentase peserta didik pada jenjang SMP atau MTs yang dinyatakan lulus (memenuhi syarat kelulusan) dibandingkan dengan jumlah peserta didik yang mengikuti ujian atau asesmen akhir kelulusan pada jenjang tersebut di periode yang sama. | D30: % | E30: 100
A31: Jumlah lulusan pada jenjang SMP | B31: Dinas Pendidikan, Pemuda, dan Olahraga Kota Yogyakarta | C31: Jumlah total lulusan pada jenjang SMP/MTs tahun ajaran sebelumnya di wilayah Kota Yogyakarta pada tahun berkenaan. | D31: Orang | E31: 6776
A32: Jumlah peserta didik kelas terakhir SMP | B32: Dinas Pendidikan, Pemuda, dan Olahraga Kota Yogyakarta | C32: Jumlah total lulusan pada jenjang SMP/MTs tahun ajaran sebelumnya di wilayah Kota Yogyakarta pada tahun berkenaan. | D32: Orang | E32: 6665
A33: Persentase kelulusan ujian nasional SMP | B33: Dinas Pendidikan, Pemuda, dan Olahraga Kota Yogyakarta | C33: persentase peserta didik yang berhasil lulus ujian nasional atau ujian akhir sekolah dari total peserta ujian | D33: % | E33: n/a
A34: Angka Melanjutkan
A35: Angka melanjutkan Jenjang SD ke SMP | B35: Dinas Pendidikan, Pemuda, dan Olahraga Kota Yogyakarta | C35: Persentase siswa yang duduk di kelas terakhir jenjang SD/MI pada tahun ajaran lalu dan duduk di kelas 1 jenjang SMP/MTS pada tahun ajaran sekarang terhadap siswa yang duduk di kelas terakhir jenjang SD/MI pada tahun ajaran lalu di wilayah Kota Yogyakarta pada tahun berkenaan. | D35: % | E35: 115.31
A36: Jumlah siswa baru tingkat I pada jenjang SMP | B36: Dinas Pendidikan, Pemuda, dan Olahraga Kota Yogyakarta | C36: Jumlah siswa yang duduk di kelas pertama jenjang SMP/MTs pada tahun ajaran baru di wilayah Kota Yogyakarta pada tahun berkenaan. | D36: Orang | E36: 7065
A37: Jumlah lulusan pada jenjang SD tahun ajaran sebelumnya | B37: Dinas Pendidikan, Pemuda, dan Olahraga Kota Yogyakarta | C37: Jumlah total lulusan pada jenjang SD/MI tahun ajaran sebelumnya di wilayah Kota Yogyakarta pada tahun berkenaan. | D37: Orang | E37: 7033
A38: Angka melanjutkan Jenjang SMP ke SMA/SMK/MA | B38: Dinas Pendidikan, Pemuda, dan Olahraga Kota Yogyakarta | C38: Persentase siswa yang duduk di kelas terakhir jenjang SMP/MTs pada tahun ajaran lalu dan duduk di kelas 1 jenjang SMA/SMK/MA pada tahun ajaran sekarang terhadap siswa yang duduk di kelas terakhir jenjang SMP/MTs pada tahun ajaran lalu di wilayah Kota Yogyakarta pada tahun berkenaan. | D38: % | E38: 166.93
A39: Jumlah siswa baru tingkat I pada jenjang SMA/SMK/MA | B39: Dinas Pendidikan, Pemuda, dan Olahraga Kota Yogyakarta | C39: Jumlah siswa yang duduk di kelas pertama jenjang SMA/SMK/MA pada tahun ajaran baru di wilayah Kota Yogyakarta pada tahun berkenaan. | D39: Orang | E39: 12854
A40: Jumlah lulusan pada jenjang SMP tahun ajaran sebelumnya | B40: Dinas Pendidikan, Pemuda, dan Olahraga Kota Yogyakarta | C40: Jumlah total lulusan pada jenjang SMP/MTs tahun ajaran sebelumnya di wilayah Kota Yogyakarta pada tahun berkenaan. | D40: Orang | E40: 7805
...
